| Back to the "Multiple platform build/check report" |
This page was generated on 2013-10-08 16:07:34 -0700 (Tue, 08 Oct 2013).
| Package 155/156 | Hostname | OS / Arch | BUILD | CHECK | BUILD BIN | ||||
| yeastNagalakshmi 0.99.6 Bioconductor Package Maintainer
| george2 | Linux (Ubuntu 12.04.1 LTS) / x86_64 | OK | OK | |||||
| moscato2 | Windows Server 2008 R2 Enterprise SP1 (64-bit) / x64 | OK | OK | OK | |||||
| petty | Mac OS X Snow Leopard (10.6.8) / x86_64 | [ OK ] | OK | OK |
| Package: yeastNagalakshmi |
| Version: 0.99.6 |
| Command: /Library/Frameworks/R.framework/Versions/Current/Resources/bin/R CMD build --keep-empty-dirs --no-resave-data yeastNagalakshmi |
| StartedAt: 2013-10-08 12:32:23 -0700 (Tue, 08 Oct 2013) |
| EndedAt: 2013-10-08 12:32:26 -0700 (Tue, 08 Oct 2013) |
| EllapsedTime: 3.9 seconds |
| RetCode: 0 |
| Status: OK |
| PackageFile: yeastNagalakshmi_0.99.6.tar.gz |
| PackageFileSize: 14.33 MiB |
* checking for file 'yeastNagalakshmi/DESCRIPTION' ... OK * preparing 'yeastNagalakshmi': * checking DESCRIPTION meta-information ... OK * checking for LF line-endings in source and make files * checking for empty or unneeded directories * building 'yeastNagalakshmi_0.99.6.tar.gz'