snpStats 1.10.0 David Clayton
 | Snapshot Date: 2013-10-08 17:00:48 -0700 (Tue, 08 Oct 2013) |  | URL: https://hedgehog.fhcrc.org/bioconductor/branches/RELEASE_2_12/madman/Rpacks/snpStats |  | Last Changed Rev: 75263 / Revision: 81334 |  | Last Changed Date: 2013-04-03 14:32:27 -0700 (Wed, 03 Apr 2013) |  
  | george2  | Linux (Ubuntu 12.04.1 LTS) / x86_64  |  OK  |  OK  |  | 
| moscato2  | Windows Server 2008 R2 Enterprise SP1 (64-bit) / x64  |  OK  |  OK  |  OK  | 
| petty  | Mac OS X Snow Leopard (10.6.8) / x86_64  |  OK  |  OK  | [ OK ] | 
>>>>>>> 
>>>>>>> INSTALLATION WITH 'R CMD INSTALL --preclean --no-multiarch --library=snpStats.buildbin-libdir snpStats_1.10.0.tar.gz'
>>>>>>> 
* installing *source* package 'snpStats' ...
** libs
llvm-gcc-4.2 -arch x86_64 -std=gnu99 -I/Library/Frameworks/R.framework/Resources/include -DNDEBUG  -I/usr/local/include    -fPIC  -mtune=core2 -g -O2  -c Runcertain.c -o Runcertain.o
llvm-gcc-4.2 -arch x86_64 -std=gnu99 -I/Library/Frameworks/R.framework/Resources/include -DNDEBUG  -I/usr/local/include    -fPIC  -mtune=core2 -g -O2  -c adler32.c -o adler32.o
llvm-gcc-4.2 -arch x86_64 -std=gnu99 -I/Library/Frameworks/R.framework/Resources/include -DNDEBUG  -I/usr/local/include    -fPIC  -mtune=core2 -g -O2  -c bind.c -o bind.o
llvm-gcc-4.2 -arch x86_64 -std=gnu99 -I/Library/Frameworks/R.framework/Resources/include -DNDEBUG  -I/usr/local/include    -fPIC  -mtune=core2 -g -O2  -c compress.c -o compress.o
llvm-gcc-4.2 -arch x86_64 -std=gnu99 -I/Library/Frameworks/R.framework/Resources/include -DNDEBUG  -I/usr/local/include    -fPIC  -mtune=core2 -g -O2  -c count_gt.c -o count_gt.o
llvm-gcc-4.2 -arch x86_64 -std=gnu99 -I/Library/Frameworks/R.framework/Resources/include -DNDEBUG  -I/usr/local/include    -fPIC  -mtune=core2 -g -O2  -c covwin.c -o covwin.o
llvm-gcc-4.2 -arch x86_64 -std=gnu99 -I/Library/Frameworks/R.framework/Resources/include -DNDEBUG  -I/usr/local/include    -fPIC  -mtune=core2 -g -O2  -c crc32.c -o crc32.o
llvm-gcc-4.2 -arch x86_64 -std=gnu99 -I/Library/Frameworks/R.framework/Resources/include -DNDEBUG  -I/usr/local/include    -fPIC  -mtune=core2 -g -O2  -c deflate.c -o deflate.o
llvm-gcc-4.2 -arch x86_64 -std=gnu99 -I/Library/Frameworks/R.framework/Resources/include -DNDEBUG  -I/usr/local/include    -fPIC  -mtune=core2 -g -O2  -c force_hom.c -o force_hom.o
llvm-gcc-4.2 -arch x86_64 -std=gnu99 -I/Library/Frameworks/R.framework/Resources/include -DNDEBUG  -I/usr/local/include    -fPIC  -mtune=core2 -g -O2  -c fst.c -o fst.o
llvm-gcc-4.2 -arch x86_64 -std=gnu99 -I/Library/Frameworks/R.framework/Resources/include -DNDEBUG  -I/usr/local/include    -fPIC  -mtune=core2 -g -O2  -c glm_test.c -o glm_test.o
llvm-gcc-4.2 -arch x86_64 -std=gnu99 -I/Library/Frameworks/R.framework/Resources/include -DNDEBUG  -I/usr/local/include    -fPIC  -mtune=core2 -g -O2  -c glm_test_R.c -o glm_test_R.o
llvm-gcc-4.2 -arch x86_64 -std=gnu99 -I/Library/Frameworks/R.framework/Resources/include -DNDEBUG  -I/usr/local/include    -fPIC  -mtune=core2 -g -O2  -c gzclose.c -o gzclose.o
llvm-gcc-4.2 -arch x86_64 -std=gnu99 -I/Library/Frameworks/R.framework/Resources/include -DNDEBUG  -I/usr/local/include    -fPIC  -mtune=core2 -g -O2  -c gzlib.c -o gzlib.o
llvm-gcc-4.2 -arch x86_64 -std=gnu99 -I/Library/Frameworks/R.framework/Resources/include -DNDEBUG  -I/usr/local/include    -fPIC  -mtune=core2 -g -O2  -c gzread.c -o gzread.o
llvm-gcc-4.2 -arch x86_64 -std=gnu99 -I/Library/Frameworks/R.framework/Resources/include -DNDEBUG  -I/usr/local/include    -fPIC  -mtune=core2 -g -O2  -c gzwrite.c -o gzwrite.o
llvm-gcc-4.2 -arch x86_64 -std=gnu99 -I/Library/Frameworks/R.framework/Resources/include -DNDEBUG  -I/usr/local/include    -fPIC  -mtune=core2 -g -O2  -c hash_index.c -o hash_index.o
llvm-gcc-4.2 -arch x86_64 -std=gnu99 -I/Library/Frameworks/R.framework/Resources/include -DNDEBUG  -I/usr/local/include    -fPIC  -mtune=core2 -g -O2  -c hphase.c -o hphase.o
llvm-gcc-4.2 -arch x86_64 -std=gnu99 -I/Library/Frameworks/R.framework/Resources/include -DNDEBUG  -I/usr/local/include    -fPIC  -mtune=core2 -g -O2  -c imputation.c -o imputation.o
llvm-gcc-4.2 -arch x86_64 -std=gnu99 -I/Library/Frameworks/R.framework/Resources/include -DNDEBUG  -I/usr/local/include    -fPIC  -mtune=core2 -g -O2  -c in.c -o in.o
llvm-gcc-4.2 -arch x86_64 -std=gnu99 -I/Library/Frameworks/R.framework/Resources/include -DNDEBUG  -I/usr/local/include    -fPIC  -mtune=core2 -g -O2  -c infback.c -o infback.o
llvm-gcc-4.2 -arch x86_64 -std=gnu99 -I/Library/Frameworks/R.framework/Resources/include -DNDEBUG  -I/usr/local/include    -fPIC  -mtune=core2 -g -O2  -c inffast.c -o inffast.o
llvm-gcc-4.2 -arch x86_64 -std=gnu99 -I/Library/Frameworks/R.framework/Resources/include -DNDEBUG  -I/usr/local/include    -fPIC  -mtune=core2 -g -O2  -c inflate.c -o inflate.o
llvm-gcc-4.2 -arch x86_64 -std=gnu99 -I/Library/Frameworks/R.framework/Resources/include -DNDEBUG  -I/usr/local/include    -fPIC  -mtune=core2 -g -O2  -c inftrees.c -o inftrees.o
llvm-gcc-4.2 -arch x86_64 -std=gnu99 -I/Library/Frameworks/R.framework/Resources/include -DNDEBUG  -I/usr/local/include    -fPIC  -mtune=core2 -g -O2  -c input.c -o input.o
llvm-gcc-4.2 -arch x86_64 -std=gnu99 -I/Library/Frameworks/R.framework/Resources/include -DNDEBUG  -I/usr/local/include    -fPIC  -mtune=core2 -g -O2  -c invert.c -o invert.o
llvm-gcc-4.2 -arch x86_64 -std=gnu99 -I/Library/Frameworks/R.framework/Resources/include -DNDEBUG  -I/usr/local/include    -fPIC  -mtune=core2 -g -O2  -c ipf.c -o ipf.o
llvm-gcc-4.2 -arch x86_64 -std=gnu99 -I/Library/Frameworks/R.framework/Resources/include -DNDEBUG  -I/usr/local/include    -fPIC  -mtune=core2 -g -O2  -c ld.c -o ld.o
llvm-gcc-4.2 -arch x86_64 -std=gnu99 -I/Library/Frameworks/R.framework/Resources/include -DNDEBUG  -I/usr/local/include    -fPIC  -mtune=core2 -g -O2  -c misc.c -o misc.o
llvm-gcc-4.2 -arch x86_64 -std=gnu99 -I/Library/Frameworks/R.framework/Resources/include -DNDEBUG  -I/usr/local/include    -fPIC  -mtune=core2 -g -O2  -c mla.c -o mla.o
llvm-gcc-4.2 -arch x86_64 -std=gnu99 -I/Library/Frameworks/R.framework/Resources/include -DNDEBUG  -I/usr/local/include    -fPIC  -mtune=core2 -g -O2  -c mvphenotype.c -o mvphenotype.o
llvm-gcc-4.2 -arch x86_64 -std=gnu99 -I/Library/Frameworks/R.framework/Resources/include -DNDEBUG  -I/usr/local/include    -fPIC  -mtune=core2 -g -O2  -c outdata.c -o outdata.o
llvm-gcc-4.2 -arch x86_64 -std=gnu99 -I/Library/Frameworks/R.framework/Resources/include -DNDEBUG  -I/usr/local/include    -fPIC  -mtune=core2 -g -O2  -c plink.c -o plink.o
llvm-gcc-4.2 -arch x86_64 -std=gnu99 -I/Library/Frameworks/R.framework/Resources/include -DNDEBUG  -I/usr/local/include    -fPIC  -mtune=core2 -g -O2  -c read_uncertain.c -o read_uncertain.o
llvm-gcc-4.2 -arch x86_64 -std=gnu99 -I/Library/Frameworks/R.framework/Resources/include -DNDEBUG  -I/usr/local/include    -fPIC  -mtune=core2 -g -O2  -c readped.c -o readped.o
llvm-gcc-4.2 -arch x86_64 -std=gnu99 -I/Library/Frameworks/R.framework/Resources/include -DNDEBUG  -I/usr/local/include    -fPIC  -mtune=core2 -g -O2  -c single_snp_tests.c -o single_snp_tests.o
llvm-gcc-4.2 -arch x86_64 -std=gnu99 -I/Library/Frameworks/R.framework/Resources/include -DNDEBUG  -I/usr/local/include    -fPIC  -mtune=core2 -g -O2  -c snp_summary.c -o snp_summary.o
llvm-gcc-4.2 -arch x86_64 -std=gnu99 -I/Library/Frameworks/R.framework/Resources/include -DNDEBUG  -I/usr/local/include    -fPIC  -mtune=core2 -g -O2  -c snpmpy.c -o snpmpy.o
llvm-gcc-4.2 -arch x86_64 -std=gnu99 -I/Library/Frameworks/R.framework/Resources/include -DNDEBUG  -I/usr/local/include    -fPIC  -mtune=core2 -g -O2  -c solve_cubic.c -o solve_cubic.o
llvm-gcc-4.2 -arch x86_64 -std=gnu99 -I/Library/Frameworks/R.framework/Resources/include -DNDEBUG  -I/usr/local/include    -fPIC  -mtune=core2 -g -O2  -c structure.c -o structure.o
llvm-gcc-4.2 -arch x86_64 -std=gnu99 -I/Library/Frameworks/R.framework/Resources/include -DNDEBUG  -I/usr/local/include    -fPIC  -mtune=core2 -g -O2  -c switch.c -o switch.o
llvm-gcc-4.2 -arch x86_64 -std=gnu99 -I/Library/Frameworks/R.framework/Resources/include -DNDEBUG  -I/usr/local/include    -fPIC  -mtune=core2 -g -O2  -c tdt.c -o tdt.o
llvm-gcc-4.2 -arch x86_64 -std=gnu99 -I/Library/Frameworks/R.framework/Resources/include -DNDEBUG  -I/usr/local/include    -fPIC  -mtune=core2 -g -O2  -c trees.c -o trees.o
llvm-gcc-4.2 -arch x86_64 -std=gnu99 -I/Library/Frameworks/R.framework/Resources/include -DNDEBUG  -I/usr/local/include    -fPIC  -mtune=core2 -g -O2  -c uncertain.c -o uncertain.o
llvm-gcc-4.2 -arch x86_64 -std=gnu99 -I/Library/Frameworks/R.framework/Resources/include -DNDEBUG  -I/usr/local/include    -fPIC  -mtune=core2 -g -O2  -c uncompr.c -o uncompr.o
llvm-gcc-4.2 -arch x86_64 -std=gnu99 -I/Library/Frameworks/R.framework/Resources/include -DNDEBUG  -I/usr/local/include    -fPIC  -mtune=core2 -g -O2  -c zutil.c -o zutil.o
llvm-gcc-4.2 -arch x86_64 -std=gnu99 -dynamiclib -Wl,-headerpad_max_install_names -undefined dynamic_lookup -single_module -multiply_defined suppress -L/usr/local/lib -L/usr/local/lib -o snpStats.so Runcertain.o adler32.o bind.o compress.o count_gt.o covwin.o crc32.o deflate.o force_hom.o fst.o glm_test.o glm_test_R.o gzclose.o gzlib.o gzread.o gzwrite.o hash_index.o hphase.o imputation.o in.o infback.o inffast.o inflate.o inftrees.o input.o invert.o ipf.o ld.o misc.o mla.o mvphenotype.o outdata.o plink.o read_uncertain.o readped.o single_snp_tests.o snp_summary.o snpmpy.o solve_cubic.o structure.o switch.o tdt.o trees.o uncertain.o uncompr.o zutil.o -F/Library/Frameworks/R.framework/.. -framework R -Wl,-framework -Wl,CoreFoundation
installing to /Users/biocbuild/bbs-2.12-bioc/meat/snpStats.buildbin-libdir/snpStats/libs
** R
** data
** inst
** preparing package for lazy loading
Creating a generic function for 'plot' from package 'graphics' in package 'snpStats'
** help
*** installing help indices
** building package indices
** installing vignettes
** testing if installed package can be loaded
* DONE (snpStats)
>>>>>>> 
>>>>>>> FIXING LINKS FOR snpStats.buildbin-libdir/snpStats/libs//snpStats.so
>>>>>>> 
install_name_tool -change "/usr/local/lib/libgcc_s.1.dylib" "/Library/Frameworks/R.framework/Versions/3.0/Resources/lib/libgcc_s.1.dylib" "snpStats.buildbin-libdir/snpStats/libs//snpStats.so"
install_name_tool -change "/usr/local/lib/libgfortran.2.dylib" "/Library/Frameworks/R.framework/Versions/3.0/Resources/lib/libgfortran.2.dylib" "snpStats.buildbin-libdir/snpStats/libs//snpStats.so"
install_name_tool -change "/usr/local/lib/libreadline.5.2.dylib" "/Library/Frameworks/R.framework/Versions/3.0/Resources/lib/libreadline.5.2.dylib" "snpStats.buildbin-libdir/snpStats/libs//snpStats.so"
install_name_tool -change "/usr/local/lib/libreadline.dylib" "/Library/Frameworks/R.framework/Versions/3.0/Resources/lib/libreadline.dylib" "snpStats.buildbin-libdir/snpStats/libs//snpStats.so"