| Back to the "Multiple platform build/check report" | A B C D E [F] G H I J K L M N O P Q R S T U V W X Y Z | 
| Package 234/671 | Hostname | OS / Arch | BUILD | CHECK | BUILD BIN | ||||
| flowUtils 1.20.0 Nishant Gopalakrishnan 
  | george2 | Linux (Ubuntu 12.04.1 LTS) / x86_64 | OK | OK | |||||
| moscato2 | Windows Server 2008 R2 Enterprise SP1 (64-bit) / x64 | OK | OK | OK | |||||
| petty | Mac OS X Snow Leopard (10.6.8) / x86_64 | OK | OK | OK | |||||
| pelham | Mac OS X Snow Leopard (10.6.8) / x86_64 | [ OK ] | OK | OK | 
| Package: flowUtils | 
| Version: 1.20.0 | 
| Command: /Library/Frameworks/R.framework/Versions/Current/Resources/bin/R CMD build --keep-empty-dirs --no-resave-data flowUtils | 
| StartedAt: 2013-04-30 21:18:59 -0700 (Tue, 30 Apr 2013) | 
| EndedAt: 2013-04-30 21:19:01 -0700 (Tue, 30 Apr 2013) | 
| EllapsedTime: 2.8 seconds | 
| RetCode: 0 | 
| Status: OK | 
| PackageFile: flowUtils_1.20.0.tar.gz | 
| PackageFileSize: 24.97 KiB | 
* checking for file 'flowUtils/DESCRIPTION' ... OK * preparing 'flowUtils': * checking DESCRIPTION meta-information ... OK * checking for LF line-endings in source and make files * checking for empty or unneeded directories * building 'flowUtils_1.20.0.tar.gz'