easyRNASeq 1.6.4 Nicolas Delhomme
 | Snapshot Date: 2013-10-08 17:00:48 -0700 (Tue, 08 Oct 2013) |  | URL: https://hedgehog.fhcrc.org/bioconductor/branches/RELEASE_2_12/madman/Rpacks/easyRNASeq |  | Last Changed Rev: 80992 / Revision: 81334 |  | Last Changed Date: 2013-09-30 19:16:03 -0700 (Mon, 30 Sep 2013) |  
  | george2  | Linux (Ubuntu 12.04.1 LTS) / x86_64  |  OK  |  OK  |  | 
| moscato2  | Windows Server 2008 R2 Enterprise SP1 (64-bit) / x64  |  OK  |  OK  |  OK  | 
| petty  | Mac OS X Snow Leopard (10.6.8) / x86_64  |  OK  |  OK  | [ OK ] | 
>>>>>>> 
>>>>>>> INSTALLATION WITH 'R CMD INSTALL --preclean --no-multiarch --library=easyRNASeq.buildbin-libdir easyRNASeq_1.6.4.tar.gz'
>>>>>>> 
* installing *source* package 'easyRNASeq' ...
** R
** inst
** preparing package for lazy loading
Warning: replacing previous import 'coerce' when loading 'intervals'
Warning: replacing previous import 'initialize' when loading 'intervals'
Creating a generic function for 'print' from package 'base' in package 'easyRNASeq'
** help
*** installing help indices
** building package indices
** installing vignettes
** testing if installed package can be loaded
Warning: replacing previous import 'coerce' when loading 'intervals'
Warning: replacing previous import 'initialize' when loading 'intervals'
* DONE (easyRNASeq)