coRNAi 1.10.1 Elin Axelsson
 | Snapshot Date: 2013-10-08 17:00:48 -0700 (Tue, 08 Oct 2013) |  | URL: https://hedgehog.fhcrc.org/bioconductor/branches/RELEASE_2_12/madman/Rpacks/coRNAi |  | Last Changed Rev: 75943 / Revision: 81334 |  | Last Changed Date: 2013-04-23 09:22:09 -0700 (Tue, 23 Apr 2013) |  
  | george2  | Linux (Ubuntu 12.04.1 LTS) / x86_64  |  OK  |  OK  |  | 
| moscato2  | Windows Server 2008 R2 Enterprise SP1 (64-bit) / x64  |  OK  |  OK  | [ OK ] | 
| petty  | Mac OS X Snow Leopard (10.6.8) / x86_64  |  OK  |  OK  |  OK  | 
install for i386
* installing *source* package 'coRNAi' ...
** R
** data
** inst
** preparing package for lazy loading
** help
*** installing help indices
** building package indices
** installing vignettes
** testing if installed package can be loaded
install for x64
* installing *source* package 'coRNAi' ...
** testing if installed package can be loaded
* MD5 sums
packaged installation of 'coRNAi' as coRNAi_1.10.1.zip
* DONE (coRNAi)