bigmemoryExtras 0.99.4 Peter M. Haverty
 | Snapshot Date: 2012-09-30 17:01:35 -0700 (Sun, 30 Sep 2012) |  | URL: https://hedgehog.fhcrc.org/bioconductor/trunk/madman/Rpacks/bigmemoryExtras |  | Last Changed Rev: 69960 / Revision: 69998 |  | Last Changed Date: 2012-09-28 17:05:37 -0700 (Fri, 28 Sep 2012) |  
  | lamb2  | Linux (openSUSE 11.4) / x86_64  |  OK  |  OK  |  | 
| moscato2  | Windows Server 2008 R2 Enterprise SP1 (64-bit) / x64  | [ ERROR ] |  skipped  |  skipped  | 
| petty  | Mac OS X Leopard (10.5.8) / i386  |  OK  |  OK  |  OK  | 
* checking for file 'bigmemoryExtras/DESCRIPTION' ... OK
* preparing 'bigmemoryExtras':
* checking DESCRIPTION meta-information ... OK
* installing the package to re-build vignettes
      -----------------------------------
ERROR:  Unix-only package
* removing 'E:/biocbld/bbs-2.12-bioc/tmpdir/Rtmp4uqgs7/Rinst2120e031d0/bigmemoryExtras'
      -----------------------------------
ERROR: package installation failed