affycoretools 1.31.4 James W. MacDonald
 | Snapshot Date: 2013-01-15 17:01:14 -0800 (Tue, 15 Jan 2013) |  | URL: https://hedgehog.fhcrc.org/bioconductor/trunk/madman/Rpacks/affycoretools |  | Last Changed Rev: 72092 / Revision: 72575 |  | Last Changed Date: 2012-12-20 15:19:44 -0800 (Thu, 20 Dec 2012) |  
  | george2  | Linux (Ubuntu 12.04.1 LTS) / x86_64  |  OK  |  WARNINGS  |  | 
| lamb2  | Linux (openSUSE 11.4) / x86_64  | [ OK ] |  WARNINGS  |  | 
| moscato2  | Windows Server 2008 R2 Enterprise SP1 (64-bit) / x64  |  OK  |  WARNINGS  |  OK  | 
| petty  | Mac OS X Leopard (10.5.8) / i386  |  OK  |  WARNINGS  |  OK  | 
* checking for file ‘affycoretools/DESCRIPTION’ ... OK
* preparing ‘affycoretools’:
* checking DESCRIPTION meta-information ... OK
* installing the package to re-build vignettes
* creating vignettes ... OK
* checking for LF line-endings in source and make files
* checking for empty or unneeded directories
* building ‘affycoretools_1.31.4.tar.gz’