VegaMC 2.7.0 Sandro Morganella
 | Snapshot Date: 2013-10-08 17:00:48 -0700 (Tue, 08 Oct 2013) |  | URL: https://hedgehog.fhcrc.org/bioconductor/branches/RELEASE_2_12/madman/Rpacks/VegaMC |  | Last Changed Rev: 77557 / Revision: 81334 |  | Last Changed Date: 2013-06-14 05:52:24 -0700 (Fri, 14 Jun 2013) |  
  | george2  | Linux (Ubuntu 12.04.1 LTS) / x86_64  |  OK  |  OK  |  | 
| moscato2  | Windows Server 2008 R2 Enterprise SP1 (64-bit) / x64  |  OK  |  OK  |  OK  | 
| petty  | Mac OS X Snow Leopard (10.6.8) / x86_64  | [ OK ] |  OK  |  OK  | 
* checking for file 'VegaMC/DESCRIPTION' ... OK
* preparing 'VegaMC':
* checking DESCRIPTION meta-information ... OK
* cleaning src
* installing the package to re-build vignettes
* creating vignettes ... OK
* cleaning src
* checking for LF line-endings in source and make files
* checking for empty or unneeded directories
* building 'VegaMC_2.7.0.tar.gz'