UniProt.ws 2.0.1 Marc Carlson
 | Snapshot Date: 2013-10-08 17:00:48 -0700 (Tue, 08 Oct 2013) |  | URL: https://hedgehog.fhcrc.org/bioconductor/branches/RELEASE_2_12/madman/Rpacks/UniProt.ws |  | Last Changed Rev: 77410 / Revision: 81334 |  | Last Changed Date: 2013-06-11 15:19:34 -0700 (Tue, 11 Jun 2013) |  
  | george2  | Linux (Ubuntu 12.04.1 LTS) / x86_64  |  OK  |  OK  |  | 
| moscato2  | Windows Server 2008 R2 Enterprise SP1 (64-bit) / x64  | [ OK ] |  OK  |  OK  | 
| petty  | Mac OS X Snow Leopard (10.6.8) / x86_64  |  OK  |  OK  |  OK  | 
* checking for file 'UniProt.ws/DESCRIPTION' ... OK
* preparing 'UniProt.ws':
* checking DESCRIPTION meta-information ... OK
* installing the package to re-build vignettes
* creating vignettes ... OK
* checking for LF line-endings in source and make files
* checking for empty or unneeded directories
* building 'UniProt.ws_2.0.1.tar.gz'