RedeR 1.6.2 Mauro Castro
 | Snapshot Date: 2013-01-15 17:01:14 -0800 (Tue, 15 Jan 2013) |  | URL: https://hedgehog.fhcrc.org/bioconductor/trunk/madman/Rpacks/RedeR |  | Last Changed Rev: 72298 / Revision: 72575 |  | Last Changed Date: 2013-01-04 13:18:09 -0800 (Fri, 04 Jan 2013) |  
  | george2  | Linux (Ubuntu 12.04.1 LTS) / x86_64  |  OK  |  OK  |  | 
| lamb2  | Linux (openSUSE 11.4) / x86_64  | [ OK ] |  OK  |  | 
| moscato2  | Windows Server 2008 R2 Enterprise SP1 (64-bit) / x64  |  OK  |  OK  |  OK  | 
| petty  | Mac OS X Leopard (10.5.8) / i386  |  OK  |  OK  |  OK  | 
* checking for file ‘RedeR/DESCRIPTION’ ... OK
* preparing ‘RedeR’:
* checking DESCRIPTION meta-information ... OK
* installing the package to re-build vignettes
* creating vignettes ... OK
* checking for LF line-endings in source and make files
* checking for empty or unneeded directories
* looking to see if a ‘data/datalist’ file should be added
* building ‘RedeR_1.6.2.tar.gz’