MeasurementError.cor 1.32.0 Beiying Ding
 | Snapshot Date: 2013-10-08 17:00:48 -0700 (Tue, 08 Oct 2013) |  | URL: https://hedgehog.fhcrc.org/bioconductor/branches/RELEASE_2_12/madman/Rpacks/MeasurementError.cor |  | Last Changed Rev: 75263 / Revision: 81334 |  | Last Changed Date: 2013-04-03 14:32:27 -0700 (Wed, 03 Apr 2013) |  
  | george2  | Linux (Ubuntu 12.04.1 LTS) / x86_64  |  OK  |  OK  |  | 
| moscato2  | Windows Server 2008 R2 Enterprise SP1 (64-bit) / x64  | [ OK ] |  OK  |  OK  | 
| petty  | Mac OS X Snow Leopard (10.6.8) / x86_64  |  OK  |  OK  |  OK  | 
* checking for file 'MeasurementError.cor/DESCRIPTION' ... OK
* preparing 'MeasurementError.cor':
* checking DESCRIPTION meta-information ... OK
* installing the package to re-build vignettes
* creating vignettes ... OK
* excluding invalid files
Subdirectory 'R' contains invalid file names:
  'zzz'
Subdirectory 'man' contains invalid file names:
  'CalcInitials' 'TransformCon2Uncon' 'TransformUncon2Con' 'cor.me'
  'fcn' 'fcn.uncons' 'gradient' 'gradient.uncons'
* checking for LF line-endings in source and make files
* checking for empty or unneeded directories
* building 'MeasurementError.cor_1.32.0.tar.gz'