KEGGprofile 1.2.0 Shilin Zhao
 | Snapshot Date: 2013-10-08 17:00:48 -0700 (Tue, 08 Oct 2013) |  | URL: https://hedgehog.fhcrc.org/bioconductor/branches/RELEASE_2_12/madman/Rpacks/KEGGprofile |  | Last Changed Rev: 75263 / Revision: 81334 |  | Last Changed Date: 2013-04-03 14:32:27 -0700 (Wed, 03 Apr 2013) |  
  | george2  | Linux (Ubuntu 12.04.1 LTS) / x86_64  |  OK  |  OK  |  | 
| moscato2  | Windows Server 2008 R2 Enterprise SP1 (64-bit) / x64  |  OK  |  WARNINGS  | [ OK ] | 
| petty  | Mac OS X Snow Leopard (10.6.8) / x86_64  |  OK  |  WARNINGS  |  OK  | 
install for i386
* installing *source* package 'KEGGprofile' ...
** R
** data
** inst
** preparing package for lazy loading
Warning: package 'KEGG.db' was built under R version 3.1.0
** help
*** installing help indices
** building package indices
** installing vignettes
** testing if installed package can be loaded
Warning: package 'KEGG.db' was built under R version 3.1.0
install for x64
* installing *source* package 'KEGGprofile' ...
** testing if installed package can be loaded
Warning: package 'KEGG.db' was built under R version 3.1.0
* MD5 sums
packaged installation of 'KEGGprofile' as KEGGprofile_1.2.0.zip
* DONE (KEGGprofile)