HTSanalyzeR 2.12.1 Xin Wang
 | Snapshot Date: 2013-10-08 17:00:48 -0700 (Tue, 08 Oct 2013) |  | URL: https://hedgehog.fhcrc.org/bioconductor/branches/RELEASE_2_12/madman/Rpacks/HTSanalyzeR |  | Last Changed Rev: 80920 / Revision: 81334 |  | Last Changed Date: 2013-09-29 19:28:10 -0700 (Sun, 29 Sep 2013) |  
  | george2  | Linux (Ubuntu 12.04.1 LTS) / x86_64  |  OK  |  OK  |  | 
| moscato2  | Windows Server 2008 R2 Enterprise SP1 (64-bit) / x64  |  OK  |  OK  |  OK  | 
| petty  | Mac OS X Snow Leopard (10.6.8) / x86_64  |  OK  |  OK  | [ OK ] | 
>>>>>>> 
>>>>>>> INSTALLATION WITH 'R CMD INSTALL --preclean --no-multiarch --library=HTSanalyzeR.buildbin-libdir HTSanalyzeR_2.12.1.tar.gz'
>>>>>>> 
* installing *source* package 'HTSanalyzeR' ...
** R
** data
** inst
** preparing package for lazy loading
** help
*** installing help indices
** building package indices
** installing vignettes
** testing if installed package can be loaded
* DONE (HTSanalyzeR)