GeneAnswers 2.2.1 Gang Feng  , Pan Du  and Tian Xia
 | Snapshot Date: 2013-10-08 17:00:48 -0700 (Tue, 08 Oct 2013) |  | URL: https://hedgehog.fhcrc.org/bioconductor/branches/RELEASE_2_12/madman/Rpacks/GeneAnswers |  | Last Changed Rev: 75810 / Revision: 81334 |  | Last Changed Date: 2013-04-19 09:55:42 -0700 (Fri, 19 Apr 2013) |  
  | george2  | Linux (Ubuntu 12.04.1 LTS) / x86_64  |  OK  |  OK  |  | 
| moscato2  | Windows Server 2008 R2 Enterprise SP1 (64-bit) / x64  |  OK  |  WARNINGS  |  OK  | 
| petty  | Mac OS X Snow Leopard (10.6.8) / x86_64  |  OK  | [ OK ] |  OK  | 
* using log directory '/Users/biocbuild/bbs-2.12-bioc/meat/GeneAnswers.Rcheck'
* using R version 3.0.1 (2013-05-16)
* using platform: x86_64-apple-darwin10.8.0 (64-bit)
* using session charset: ASCII
* using option '--no-vignettes'
* checking for file 'GeneAnswers/DESCRIPTION' ... OK
* checking extension type ... Package
* this is package 'GeneAnswers' version '2.2.1'
* checking package namespace information ... OK
* checking package dependencies ... OK
* checking if this is a source package ... OK
* checking if there is a namespace ... OK
* checking for hidden files and directories ... OK
* checking for portable file names ... OK
* checking for sufficient/correct file permissions ... OK
* checking whether package 'GeneAnswers' can be installed ... [23s/23s] OK
* checking installed package size ... NOTE
  installed size is 35.2Mb
  sub-directories of 1Mb or more:
    External  32.4Mb
    data       1.0Mb
    doc        1.4Mb
* checking package directory ... OK
* checking DESCRIPTION meta-information ... OK
* checking top-level files ... OK
* checking for left-over files ... OK
* checking index information ... OK
* checking package subdirectories ... OK
* checking R files for non-ASCII characters ... OK
* checking R files for syntax errors ... OK
* checking whether the package can be loaded ... OK
* checking whether the package can be loaded with stated dependencies ... OK
* checking whether the package can be unloaded cleanly ... OK
* checking whether the namespace can be loaded with stated dependencies ... OK
* checking whether the namespace can be unloaded cleanly ... OK
* checking for unstated dependencies in R code ... OK
* checking S3 generic/method consistency ... OK
* checking replacement functions ... OK
* checking foreign function calls ... OK
* checking R code for possible problems ... NOTE
File 'GeneAnswers/R/zzz.R':
  .onLoad calls:
    require(Biobase)
Package startup functions should not change the search path.
See section 'Good practice' in '?.onAttach'.
* checking Rd files ... OK
* checking Rd metadata ... OK
* checking Rd cross-references ... OK
* checking for missing documentation entries ... OK
* checking for code/documentation mismatches ... OK
* checking Rd \usage sections ... OK
* checking Rd contents ... OK
* checking for unstated dependencies in examples ... OK
* checking contents of 'data' directory ... OK
* checking data for non-ASCII characters ... OK
* checking data for ASCII and uncompressed saves ... OK
* checking sizes of PDF files under 'inst/doc' ... OK
* checking installed files from 'inst/doc' ... OK
* checking examples ... [12m/13m] OK
Examples with CPU or elapsed time > 5s
                              user system elapsed
geneAnswersReadable        102.927  4.839 108.438
GeneAnswers-class           54.451  3.788  59.151
getMultiLayerGraphIDs       45.206  2.850  48.211
getConnectedGraph           43.578  2.180  46.066
geneAnswersBuilder          43.148  2.467  46.227
geneAnswersConceptNet       42.367  2.431  45.073
geneAnswersConcepts         42.520  2.277  45.412
geneAnswersChartPlots       42.358  2.377  45.126
geneAnswersHomoMapping      42.217  2.323  44.831
geneAnswersSort             41.559  2.382  44.057
geneAnswersHeatmap          40.543  2.607  43.452
buildNet                    40.218  2.498  43.218
GeneAnswers-package         38.962  2.734  42.494
geneAnswersConceptRelation  38.621  2.734  41.783
getGOList                   25.431  1.962  27.707
* checking for unstated dependencies in vignettes ... OK
* checking package vignettes in 'inst/doc' ... OK
* checking running R code from vignettes ... SKIPPED
* checking re-building of vignettes ... SKIPPED
* checking PDF version of manual ... OK
NOTE: There were 2 notes.
See
  '/Users/biocbuild/bbs-2.12-bioc/meat/GeneAnswers.Rcheck/00check.log'
for details.