GWASTools 1.6.5 Stephanie M. Gogarten
 | Snapshot Date: 2013-10-08 17:00:48 -0700 (Tue, 08 Oct 2013) |  | URL: https://hedgehog.fhcrc.org/bioconductor/branches/RELEASE_2_12/madman/Rpacks/GWASTools |  | Last Changed Rev: 81296 / Revision: 81334 |  | Last Changed Date: 2013-10-08 10:15:31 -0700 (Tue, 08 Oct 2013) |  
  | george2  | Linux (Ubuntu 12.04.1 LTS) / x86_64  |  OK  |  OK  |  | 
| moscato2  | Windows Server 2008 R2 Enterprise SP1 (64-bit) / x64  |  OK  |  OK  |  OK  | 
| petty  | Mac OS X Snow Leopard (10.6.8) / x86_64  |  OK  | [ OK ] |  OK  | 
* using log directory '/Users/biocbuild/bbs-2.12-bioc/meat/GWASTools.Rcheck'
* using R version 3.0.1 (2013-05-16)
* using platform: x86_64-apple-darwin10.8.0 (64-bit)
* using session charset: ASCII
* using option '--no-vignettes'
* checking for file 'GWASTools/DESCRIPTION' ... OK
* checking extension type ... Package
* this is package 'GWASTools' version '1.6.5'
* checking package namespace information ... OK
* checking package dependencies ... OK
* checking if this is a source package ... OK
* checking if there is a namespace ... OK
* checking for hidden files and directories ... NOTE
Found the following hidden files and directories:
  .BBSoptions
These were most likely included in error. See section 'Package
structure' in the 'Writing R Extensions' manual.
* checking for portable file names ... OK
* checking for sufficient/correct file permissions ... OK
* checking whether package 'GWASTools' can be installed ... [13s/13s] OK
* checking installed package size ... OK
* checking package directory ... OK
* checking DESCRIPTION meta-information ... OK
* checking top-level files ... OK
* checking for left-over files ... OK
* checking index information ... OK
* checking package subdirectories ... OK
* checking R files for non-ASCII characters ... OK
* checking R files for syntax errors ... OK
* checking whether the package can be loaded ... OK
* checking whether the package can be loaded with stated dependencies ... OK
* checking whether the package can be unloaded cleanly ... OK
* checking whether the namespace can be loaded with stated dependencies ... OK
* checking whether the namespace can be unloaded cleanly ... OK
* checking for unstated dependencies in R code ... OK
* checking S3 generic/method consistency ... OK
* checking replacement functions ... OK
* checking foreign function calls ... OK
* checking R code for possible problems ... OK
* checking Rd files ... OK
* checking Rd metadata ... OK
* checking Rd cross-references ... OK
* checking for missing documentation entries ... OK
* checking for code/documentation mismatches ... OK
* checking Rd \usage sections ... OK
* checking Rd contents ... OK
* checking for unstated dependencies in examples ... OK
* checking contents of 'data' directory ... OK
* checking data for non-ASCII characters ... OK
* checking data for ASCII and uncompressed saves ... OK
* checking sizes of PDF files under 'inst/doc' ... OK
* checking installed files from 'inst/doc' ... OK
* checking examples ... [131s/136s] OK
Examples with CPU or elapsed time > 5s
                       user system elapsed
assocTestRegression  49.118  0.518  51.194
assocTestFisherExact 17.628  0.421  18.394
assocTestCPH          8.977  0.053   9.092
plinkUtils            7.600  0.104   8.004
snpStats              6.418  0.080   6.720
plinkToNcdf           4.977  0.082   5.246
* checking for unstated dependencies in tests ... OK
* checking tests ...
  Running 'test.R' [70s/71s]
 [70s/72s] OK
* checking for unstated dependencies in vignettes ... OK
* checking package vignettes in 'inst/doc' ... OK
* checking running R code from vignettes ... SKIPPED
* checking re-building of vignettes ... SKIPPED
* checking PDF version of manual ... OK
NOTE: There was 1 note.
See
  '/Users/biocbuild/bbs-2.12-bioc/meat/GWASTools.Rcheck/00check.log'
for details.
 
* installing *source* package 'GWASTools' ...
** R
** data
*** moving datasets to lazyload DB
** inst
** preparing package for lazy loading
Creating a generic function for 'open' from package 'base' in package 'GWASTools'
Creating a generic function for 'close' from package 'base' in package 'GWASTools'
** help
*** installing help indices
** building package indices
** installing vignettes
** testing if installed package can be loaded
* DONE (GWASTools)