| Back to the "Multiple platform build/check report" | A B C [D] E F G H I J K L M N O P Q R S T U V W X Y Z | 
This page was generated on 2013-10-09 09:39:20 -0700 (Wed, 09 Oct 2013).
| Package 194/671 | Hostname | OS / Arch | BUILD | CHECK | BUILD BIN | ||||
| DynDoc 1.38.0 Bioconductor Package Maintainer 
  | george2 | Linux (Ubuntu 12.04.1 LTS) / x86_64 | OK | OK | |||||
| moscato2 | Windows Server 2008 R2 Enterprise SP1 (64-bit) / x64 | OK | OK | OK | |||||
| petty | Mac OS X Snow Leopard (10.6.8) / x86_64 | [ OK ] | OK | OK | 
| Package: DynDoc | 
| Version: 1.38.0 | 
| Command: /Library/Frameworks/R.framework/Versions/Current/Resources/bin/R CMD build --keep-empty-dirs --no-resave-data DynDoc | 
| StartedAt: 2013-10-08 19:59:24 -0700 (Tue, 08 Oct 2013) | 
| EndedAt: 2013-10-08 19:59:27 -0700 (Tue, 08 Oct 2013) | 
| EllapsedTime: 3.2 seconds | 
| RetCode: 0 | 
| Status: OK | 
| PackageFile: DynDoc_1.38.0.tar.gz | 
| PackageFileSize: 10.86 KiB | 
* checking for file 'DynDoc/DESCRIPTION' ... OK * preparing 'DynDoc': * checking DESCRIPTION meta-information ... OK * checking for LF line-endings in source and make files * checking for empty or unneeded directories * building 'DynDoc_1.38.0.tar.gz'