| yeastNagalakshmi 0.99.5 Bioconductor Package Maintainer
 
 | Snapshot Date: 2013-03-24 09:15:27 -0700 (Sun, 24 Mar 2013) |  | URL: https://hedgehog.fhcrc.org/bioc-data/trunk/experiment/pkgs/yeastNagalakshmi |  | Last Changed Rev: 2168 / Revision: 2286 |  | Last Changed Date: 2012-10-01 10:57:19 -0700 (Mon, 01 Oct 2012) | 
 | lamb1 | Linux (openSUSE 12.1) / x86_64 | OK | OK |  | 
| moscato1 | Windows Server 2008 R2 Enterprise SP1 (64-bit) / x64 | OK | [ OK ] | OK | 
| perceval | Mac OS X Leopard (10.5.8) / i386 | OK | OK | OK | 
* using log directory 'D:/biocbld/bbs-2.11-data-experiment/meat/yeastNagalakshmi.Rcheck'
* using R version 2.15.3 (2013-03-01)
* using platform: i386-w64-mingw32 (32-bit)
* using session charset: ISO8859-1
* using option '--no-vignettes'
* checking for file 'yeastNagalakshmi/DESCRIPTION' ... OK
* checking extension type ... Package
* this is package 'yeastNagalakshmi' version '0.99.5'
* checking package namespace information ... OK
* checking package dependencies ... OK
* checking if this is a source package ... OK
* checking if there is a namespace ... OK
* checking whether package 'yeastNagalakshmi' can be installed ... OK
* checking installed package size ... NOTE
  installed size is 15.0Mb
  sub-directories of 1Mb or more:
    extdata  15.0Mb
* checking package directory ... OK
* checking for portable file names ... OK
* checking DESCRIPTION meta-information ... OK
* checking top-level files ... OK
* checking for left-over files ... OK
* checking index information ... OK
* checking package subdirectories ... OK
* loading checks for arch 'i386'
** checking whether the package can be loaded ... OK
** checking whether the package can be loaded with stated dependencies ... OK
** checking whether the package can be unloaded cleanly ... OK
** checking whether the namespace can be loaded with stated dependencies ... OK
** checking whether the namespace can be unloaded cleanly ... OK
* loading checks for arch 'x64'
** checking whether the package can be loaded ... OK
** checking whether the package can be loaded with stated dependencies ... OK
** checking whether the package can be unloaded cleanly ... OK
** checking whether the namespace can be loaded with stated dependencies ... OK
** checking whether the namespace can be unloaded cleanly ... OK
* checking Rd files ... OK
* checking Rd metadata ... OK
* checking Rd cross-references ... OK
* checking for code/documentation mismatches ... OK
* checking Rd \usage sections ... OK
* checking Rd contents ... OK
* checking for unstated dependencies in examples ... OK
* checking examples ...
** running examples for arch 'i386' ... OK
** running examples for arch 'x64' ... OK
* checking PDF version of manual ... OK
NOTE: There was 1 note.
See
  'D:/biocbld/bbs-2.11-data-experiment/meat/yeastNagalakshmi.Rcheck/00check.log'
for details.
 
install for i386
* installing *source* package 'yeastNagalakshmi' ...
** inst
** help
*** installing help indices
** building package indices
** testing if installed package can be loaded
install for x64
* installing *source* package 'yeastNagalakshmi' ...
** testing if installed package can be loaded
* MD5 sums
packaged installation of 'yeastNagalakshmi' as yeastNagalakshmi_0.99.5.zip
* DONE (yeastNagalakshmi)