pcaGoPromoter.Hs.hg19 0.99.2 Morten Hansen,
 | Snapshot Date: 2012-06-21 11:15:08 -0700 (Thu, 21 Jun 2012) |  | URL: https://hedgehog.fhcrc.org/bioc-data/trunk/experiment/pkgs/pcaGoPromoter.Hs.hg19 |  | Last Changed Rev: 2037 / Revision: 2088 |  | Last Changed Date: 2012-03-30 15:20:09 -0700 (Fri, 30 Mar 2012) |  
  | lamb1  | Linux (openSUSE 12.1) / x86_64  |  OK  |  OK  |  | 
| moscato1  | Windows Server 2008 R2 Enterprise SP1 (64-bit) / x64  |  OK  |  OK  |  OK  | 
| pitt  | Mac OS X Leopard (10.5.8) / i386  |  OK  |  OK  | [ OK ] | 
| perceval  | Mac OS X Leopard (10.5.8) / i386  |  OK  |  OK  |  OK  | 
>>>>>>> 
>>>>>>> INSTALLATION WITH 'R CMD INSTALL --preclean --no-multiarch --library=pcaGoPromoter.Hs.hg19.buildbin-libdir pcaGoPromoter.Hs.hg19_0.99.2.tar.gz'
>>>>>>> 
* installing *source* package 'pcaGoPromoter.Hs.hg19' ...
** data
** help
*** installing help indices
** building package indices
** testing if installed package can be loaded
* DONE (pcaGoPromoter.Hs.hg19)