pasilla 0.2.15 Alejandro Reyes
 | Snapshot Date: 2013-03-24 09:15:27 -0700 (Sun, 24 Mar 2013) |  | URL: https://hedgehog.fhcrc.org/bioc-data/trunk/experiment/pkgs/pasilla |  | Last Changed Rev: 2196 / Revision: 2286 |  | Last Changed Date: 2013-01-11 23:01:48 -0800 (Fri, 11 Jan 2013) |  
  | lamb1  | Linux (openSUSE 12.1) / x86_64  | [ OK ] |  WARNINGS  |  | 
| moscato1  | Windows Server 2008 R2 Enterprise SP1 (64-bit) / x64  |  OK  |  WARNINGS  |  OK  | 
| perceval  | Mac OS X Leopard (10.5.8) / i386  |  OK  |  WARNINGS  |  OK  | 
* checking for file ‘pasilla/DESCRIPTION’ ... OK
* preparing ‘pasilla’:
* checking DESCRIPTION meta-information ... OK
* installing the package to re-build vignettes
* creating vignettes ... OK
* checking for LF line-endings in source and make files
* checking for empty or unneeded directories
* looking to see if a ‘data/datalist’ file should be added
* building ‘pasilla_0.2.15.tar.gz’