| Back to the "Multiple platform build/check report" | 
| Package 59/133 | Hostname | OS / Arch | BUILD | CHECK | BUILD BIN | ||||
| hapmap100kxba 1.4.1 Benilton Carvalho 
  | lamb1 | Linux (openSUSE 12.1) / x86_64 | [ OK ] | OK | |||||
| moscato1 | Windows Server 2008 R2 Enterprise SP1 (64-bit) / x64 | OK | OK | OK | |||||
| perceval | Mac OS X Leopard (10.5.8) / i386 | OK | OK | OK | 
| Package: hapmap100kxba | 
| Version: 1.4.1 | 
| Command: /home/biocbuild/bbs-2.11-bioc/R/bin/R CMD build --keep-empty-dirs --no-resave-data hapmap100kxba | 
| StartedAt: 2013-03-24 10:48:05 -0700 (Sun, 24 Mar 2013) | 
| EndedAt: 2013-03-24 10:48:17 -0700 (Sun, 24 Mar 2013) | 
| EllapsedTime: 12.0 seconds | 
| RetCode: 0 | 
| Status: OK | 
| PackageFile: hapmap100kxba_1.4.1.tar.gz | 
| PackageFileSize: 39.62 MiB | 
* checking for file ‘hapmap100kxba/DESCRIPTION’ ... OK * preparing ‘hapmap100kxba’: * checking DESCRIPTION meta-information ... OK * checking for LF line-endings in source and make files * checking for empty or unneeded directories * building ‘hapmap100kxba_1.4.1.tar.gz’