SpikeInSubset 1.2.12 Rafael A. Irizarry
 | Snapshot Date: 2013-03-24 09:15:27 -0700 (Sun, 24 Mar 2013) |  | URL: https://hedgehog.fhcrc.org/bioc-data/trunk/experiment/pkgs/SpikeInSubset |  | Last Changed Rev: 2168 / Revision: 2286 |  | Last Changed Date: 2012-10-01 10:57:19 -0700 (Mon, 01 Oct 2012) |  
  | lamb1  | Linux (openSUSE 12.1) / x86_64  |  OK  |  WARNINGS  |  | 
| moscato1  | Windows Server 2008 R2 Enterprise SP1 (64-bit) / x64  |  OK  |  WARNINGS  |  OK  | 
| perceval  | Mac OS X Leopard (10.5.8) / i386  |  OK  |  WARNINGS  | [ OK ] | 
>>>>>>> 
>>>>>>> INSTALLATION WITH 'R CMD INSTALL --preclean --no-multiarch --library=SpikeInSubset.buildbin-libdir SpikeInSubset_1.2.12.tar.gz'
>>>>>>> 
* installing *source* package 'SpikeInSubset' ...
** R
** data
** preparing package for lazy loading
** help
Warning: /private/tmp/RtmplADKQ7/R.INSTALL1997509e13d3/SpikeInSubset/man/xhyb.Rd: docType 'instance' is unrecognized
*** installing help indices
** building package indices
** testing if installed package can be loaded
* DONE (SpikeInSubset)