| BSgenome 1.25.1 H. Pages
 
 | Snapshot Date: 2012-06-20 15:22:40 -0700 (Wed, 20 Jun 2012) |  | URL: https://hedgehog.fhcrc.org/bioconductor/trunk/madman/Rpacks/BSgenome |  | Last Changed Rev: 65914 / Revision: 66885 |  | Last Changed Date: 2012-05-15 09:59:34 -0700 (Tue, 15 May 2012) | 
 | lamb1 | Linux (openSUSE 12.1) / x86_64 | OK | WARNINGS |  | 
| moscato1 | Windows Server 2008 R2 Enterprise SP1 (64-bit) / x64 | OK | WARNINGS | OK | 
| pitt | Mac OS X Leopard (10.5.8) / i386 | [ OK ] | WARNINGS | OK | 
| perceval | Mac OS X Leopard (10.5.8) / i386 | OK | WARNINGS | OK | 
* checking for file 'BSgenome/DESCRIPTION' ... OK
* preparing 'BSgenome':
* checking DESCRIPTION meta-information ... OK
* installing the package to re-build vignettes
* creating vignettes ... OK
* checking for LF line-endings in source and make files
* checking for empty or unneeded directories
WARNING: directory 'BSgenome/inst/BSgenomeDataPkg-template/inst/extdata' is empty
WARNING: directory 'BSgenome/tests/unit' is empty
* building 'BSgenome_1.25.1.tar.gz'