hgu133plus2frmavecs 1.1.10 Matthew N. McCall
 | Snapshot Date: 2012-05-15 10:15:23 -0700 (Tue, 15 May 2012) |  | URL: https://hedgehog.fhcrc.org/bioc-data/trunk/experiment/pkgs/hgu133plus2frmavecs |  | Last Changed Rev: 2057 / Revision: 2071 |  | Last Changed Date: 2012-04-26 06:58:23 -0700 (Thu, 26 Apr 2012) |  
  | lamb2  | Linux (openSUSE 11.4) / x86_64  |  OK  |  WARNINGS  |  | 
| moscato2  | Windows Server 2008 R2 Enterprise SP1 (64-bit) / x64  |  OK  |  WARNINGS  |  OK  | 
| petty  | Mac OS X Leopard (10.5.8) / i386  | [ OK ] |  WARNINGS  |  OK  | 
* checking for file 'hgu133plus2frmavecs/DESCRIPTION' ... OK
* preparing 'hgu133plus2frmavecs':
* checking DESCRIPTION meta-information ... OK
* checking for LF line-endings in source and make files
* checking for empty or unneeded directories
* looking to see if a 'data/datalist' file should be added
* building 'hgu133plus2frmavecs_1.1.10.tar.gz'