| Back to the "Multiple platform build/check report" |
| Package 18/126 | Hostname | OS / Arch | BUILD | CHECK | BUILD BIN | ||||
| bsseqData 0.1.1 Kasper Daniel Hansen
| lamb2 | Linux (openSUSE 11.4) / x86_64 | OK | ERROR | |||||
| moscato2 | Windows Server 2008 R2 Enterprise SP1 (64-bit) / x64 | OK | ERROR | [ ERROR ] | |||||
| petty | Mac OS X Leopard (10.5.8) / i386 | OK | ERROR | ERROR |
| Package: bsseqData |
| Version: 0.1.1 |
| Command: rm -rf bsseqData.buildbin-libdir && mkdir bsseqData.buildbin-libdir && E:\biocbld\bbs-2.10-bioc\R\bin\R.exe CMD INSTALL --build --merge-multiarch --library=bsseqData.buildbin-libdir bsseqData_0.1.1.tar.gz |
| StartedAt: 2012-08-01 13:52:54 -0700 (Wed, 01 Aug 2012) |
| EndedAt: 2012-08-01 13:53:29 -0700 (Wed, 01 Aug 2012) |
| EllapsedTime: 35.2 seconds |
| RetCode: 1 |
| Status: ERROR |
| PackageFile: None |
| PackageFileSize: NA |
install for i386 ERROR: dependency 'bsseq' is not available for package 'bsseqData' * removing 'E:/biocbld/bbs-2.10-data-experiment/meat/bsseqData.buildbin-libdir/bsseqData'