| Back to the "Multiple platform build/check report" |
| Package 121/122 | Hostname | OS / Arch | BUILD | CHECK | BUILD BIN | ||||
| yeastNagalakshmi 0.99.4 Bioconductor Package Maintainer
| lamb2 | Linux (openSUSE 11.4) / x86_64 | OK | OK | |||||
| moscato2 | Windows Server 2008 R2 Enterprise SP1 (64-bit) / x64 | [ OK ] | OK | OK | |||||
| petty | Mac OS X Leopard (10.5.8) / i386 | OK | OK | OK |
| Package: yeastNagalakshmi |
| Version: 0.99.4 |
| Command: chmod a+r yeastNagalakshmi -R && E:\biocbld\bbs-2.10-bioc\R\bin\R.exe CMD build --keep-empty-dirs --no-resave-data yeastNagalakshmi |
| StartedAt: 2012-09-23 12:16:38 -0700 (Sun, 23 Sep 2012) |
| EndedAt: 2012-09-23 12:16:45 -0700 (Sun, 23 Sep 2012) |
| EllapsedTime: 7.1 seconds |
| RetCode: 0 |
| Status: OK |
| PackageFile: yeastNagalakshmi_0.99.4.tar.gz |
| PackageFileSize: 14.32 MiB |
* checking for file 'yeastNagalakshmi/DESCRIPTION' ... OK * preparing 'yeastNagalakshmi': * checking DESCRIPTION meta-information ... OK * checking for LF line-endings in source and make files * checking for empty or unneeded directories * building 'yeastNagalakshmi_0.99.4.tar.gz'