multiscan 1.16.0 Mizanur Khondoker
 | Snapshot Date: 2012-09-23 17:01:39 -0700 (Sun, 23 Sep 2012) |  | URL: https://hedgehog.fhcrc.org/bioconductor/branches/RELEASE_2_10/madman/Rpacks/multiscan |  | Last Changed Rev: 64678 / Revision: 69725 |  | Last Changed Date: 2012-03-30 15:05:02 -0700 (Fri, 30 Mar 2012) |  
  | lamb2  | Linux (openSUSE 11.4) / x86_64  |  OK  |  OK  |  | 
| moscato2  | Windows Server 2008 R2 Enterprise SP1 (64-bit) / x64  |  OK  |  OK  | [ OK ] | 
| petty  | Mac OS X Leopard (10.5.8) / i386  |  OK  |  OK  |  OK  | 
install for i386
* installing *source* package 'multiscan' ...
** libs
gcc  -I"E:/biocbld/BBS-2˜1.10-/R/include" -DNDEBUG          -O3 -Wall  -std=gnu99 -mtune=core2 -c multiscan.c -o multiscan.o
gcc -shared -s -static-libgcc -o multiscan.dll tmp.def multiscan.o -LE:/biocbld/BBS-2˜1.10-/R/bin/i386 -lR
installing to E:/biocbld/bbs-2.10-bioc/meat/multiscan.buildbin-libdir/multiscan/libs/i386
** R
** data
** inst
** preparing package for lazy loading
** help
*** installing help indices
** building package indices
** installing vignettes
   'multiscan.Rnw' 
** testing if installed package can be loaded
*** Loaded multiscan Version 1.16.0 *** 
Type 'vignette("multiscan")' to view the package vignette.
install for x64
* installing *source* package 'multiscan' ...
** libs
gcc -m64 -I"E:/biocbld/BBS-2˜1.10-/R/include" -DNDEBUG     -I"d:/RCompile/CRANpkg/extralibs64/local/include"     -O2 -Wall  -std=gnu99 -mtune=core2 -c multiscan.c -o multiscan.o
gcc -m64 -shared -s -static-libgcc -o multiscan.dll tmp.def multiscan.o -Ld:/RCompile/CRANpkg/extralibs64/local/lib/x64 -Ld:/RCompile/CRANpkg/extralibs64/local/lib -LE:/biocbld/BBS-2~1.10-/R/bin/x64 -lR
installing to E:/biocbld/bbs-2.10-bioc/meat/multiscan.buildbin-libdir/multiscan/libs/x64
** testing if installed package can be loaded
*** Loaded multiscan Version 1.16.0 *** 
Type 'vignette("multiscan")' to view the package vignette.
* MD5 sums
packaged installation of 'multiscan' as multiscan_1.16.0.zip
* DONE (multiscan)