| gaga 2.2.0 David Rossell
 
 | Snapshot Date: 2012-09-23 17:01:39 -0700 (Sun, 23 Sep 2012) |  | URL: https://hedgehog.fhcrc.org/bioconductor/branches/RELEASE_2_10/madman/Rpacks/gaga |  | Last Changed Rev: 64678 / Revision: 69725 |  | Last Changed Date: 2012-03-30 15:05:02 -0700 (Fri, 30 Mar 2012) | 
 | lamb2 | Linux (openSUSE 11.4) / x86_64 | OK | OK |  | 
| moscato2 | Windows Server 2008 R2 Enterprise SP1 (64-bit) / x64 | OK | OK | OK | 
| petty | Mac OS X Leopard (10.5.8) / i386 | OK | OK | [ OK ] | 
>>>>>>> 
>>>>>>> INSTALLATION WITH 'R CMD INSTALL --preclean --no-multiarch --library=gaga.buildbin-libdir gaga_2.2.0.tar.gz'
>>>>>>> 
* installing *source* package 'gaga' ...
** libs
*** arch - i386
gcc -arch i386 -std=gnu99 -I/Library/Frameworks/R.framework/Versions/2.15/Resources/include -I/Library/Frameworks/R.framework/Versions/2.15/Resources/include/i386 -DNDEBUG  -I/usr/local/include    -fPIC  -g -O2 -Wall -pedantic  -c cseqdesma.c -o cseqdesma.o
gcc -arch i386 -std=gnu99 -I/Library/Frameworks/R.framework/Versions/2.15/Resources/include -I/Library/Frameworks/R.framework/Versions/2.15/Resources/include/i386 -DNDEBUG  -I/usr/local/include    -fPIC  -g -O2 -Wall -pedantic  -c cstat.c -o cstat.o
gcc -arch i386 -std=gnu99 -dynamiclib -Wl,-headerpad_max_install_names -undefined dynamic_lookup -single_module -multiply_defined suppress -L/usr/local/lib -o gaga.so cseqdesma.o cstat.o -F/Library/Frameworks/R.framework/.. -framework R -Wl,-framework -Wl,CoreFoundation
installing to /Users/biocbuild/bbs-2.10-bioc/meat/gaga.buildbin-libdir/gaga/libs/i386
** R
** inst
** preparing package for lazy loading
** help
*** installing help indices
** building package indices
** installing vignettes
   'gagamanual.Rnw' 
** testing if installed package can be loaded
* DONE (gaga)
>>>>>>> 
>>>>>>> FIXING LINKS FOR gaga.buildbin-libdir/gaga/libs/i386/gaga.so
>>>>>>> 
install_name_tool -change "/usr/local/lib/libgcc_s.1.dylib" "/Library/Frameworks/R.framework/Versions/2.15/Resources/lib/libgcc_s.1.dylib" "gaga.buildbin-libdir/gaga/libs/i386/gaga.so"
install_name_tool -change "/usr/local/lib/libgfortran.2.dylib" "/Library/Frameworks/R.framework/Versions/2.15/Resources/lib/libgfortran.2.dylib" "gaga.buildbin-libdir/gaga/libs/i386/gaga.so"
install_name_tool -change "/usr/local/lib/libreadline.5.2.dylib" "/Library/Frameworks/R.framework/Versions/2.15/Resources/lib/libreadline.5.2.dylib" "gaga.buildbin-libdir/gaga/libs/i386/gaga.so"
install_name_tool -change "/usr/local/lib/libreadline.dylib" "/Library/Frameworks/R.framework/Versions/2.15/Resources/lib/libreadline.dylib" "gaga.buildbin-libdir/gaga/libs/i386/gaga.so"
>>>>>>> 
>>>>>>> INSTALLATION OF x86_64 LIBS WITH 'R_ARCH=/x86_64 R CMD INSTALL --preclean --no-multiarch --no-test-load --library=gaga.buildbin-libdir --libs-only gaga_2.2.0.tar.gz'
>>>>>>> 
* installing *source* package 'gaga' ...
** libs
*** arch - x86_64
gcc -arch x86_64 -std=gnu99 -I/Library/Frameworks/R.framework/Versions/2.15/Resources/include -I/Library/Frameworks/R.framework/Versions/2.15/Resources/include/x86_64 -DNDEBUG  -I/usr/local/include    -fPIC  -g -O2 -Wall -pedantic  -c cseqdesma.c -o cseqdesma.o
gcc -arch x86_64 -std=gnu99 -I/Library/Frameworks/R.framework/Versions/2.15/Resources/include -I/Library/Frameworks/R.framework/Versions/2.15/Resources/include/x86_64 -DNDEBUG  -I/usr/local/include    -fPIC  -g -O2 -Wall -pedantic  -c cstat.c -o cstat.o
gcc -arch x86_64 -std=gnu99 -dynamiclib -Wl,-headerpad_max_install_names -undefined dynamic_lookup -single_module -multiply_defined suppress -L/usr/local/lib -o gaga.so cseqdesma.o cstat.o -F/Library/Frameworks/R.framework/.. -framework R -Wl,-framework -Wl,CoreFoundation
installing to /Users/biocbuild/bbs-2.10-bioc/meat/gaga.buildbin-libdir/gaga/libs/x86_64
* DONE (gaga)
>>>>>>> 
>>>>>>> FIXING LINKS FOR gaga.buildbin-libdir/gaga/libs/x86_64/gaga.so
>>>>>>> 
install_name_tool -change "/usr/local/lib/libgcc_s.1.dylib" "/Library/Frameworks/R.framework/Versions/2.15/Resources/lib/libgcc_s.1.dylib" "gaga.buildbin-libdir/gaga/libs/x86_64/gaga.so"
install_name_tool -change "/usr/local/lib/libgfortran.2.dylib" "/Library/Frameworks/R.framework/Versions/2.15/Resources/lib/libgfortran.2.dylib" "gaga.buildbin-libdir/gaga/libs/x86_64/gaga.so"
install_name_tool -change "/usr/local/lib/libreadline.5.2.dylib" "/Library/Frameworks/R.framework/Versions/2.15/Resources/lib/libreadline.5.2.dylib" "gaga.buildbin-libdir/gaga/libs/x86_64/gaga.so"
install_name_tool -change "/usr/local/lib/libreadline.dylib" "/Library/Frameworks/R.framework/Versions/2.15/Resources/lib/libreadline.dylib" "gaga.buildbin-libdir/gaga/libs/x86_64/gaga.so"