charm 2.2.0 Martin Aryee
| Snapshot Date: 2012-03-31 17:01:49 -0700 (Sat, 31 Mar 2012) | | URL: https://hedgehog.fhcrc.org/bioconductor/branches/RELEASE_2_10/madman/Rpacks/charm | | Last Changed Rev: 64678 / Revision: 64719 | | Last Changed Date: 2012-03-30 15:05:02 -0700 (Fri, 30 Mar 2012) |
| lamb2 | Linux (openSUSE 11.4) / x86_64 | OK | WARNINGS | |
| puck5 | Linux (Ubuntu 12.04) / x86_64 | [ OK ] | WARNINGS | |
| moscato2 | Windows Server 2008 R2 Enterprise SP1 (64-bit) / x64 | OK | WARNINGS | OK |
| petty | Mac OS X Leopard (10.5.8) / i386 | OK | WARNINGS | OK |
* checking for file 'charm/DESCRIPTION' ... OK
* preparing 'charm':
* checking DESCRIPTION meta-information ... OK
* installing the package to re-build vignettes
* creating vignettes ... OK
* checking for LF line-endings in source and make files
* checking for empty or unneeded directories
* building 'charm_2.2.0.tar.gz'