| Back to the "Multiple platform build/check report" | A B C D E F G H I J K L M N O P Q [R] S T U V W X Y Z |
| Package 446/553 | Hostname | OS / Arch | BUILD | CHECK | BUILD BIN | ||||
| RedeR 1.2.5 Mauro Castro
| lamb2 | Linux (openSUSE 11.4) / x86_64 | OK | OK | |||||
| moscato2 | Windows Server 2008 R2 Enterprise SP1 (64-bit) / x64 | OK | OK | OK | |||||
| petty | Mac OS X Leopard (10.5.8) / i386 | OK | [ OK ] | OK |
| Package: RedeR |
| Version: 1.2.5 |
| Command: /Library/Frameworks/R.framework/Versions/2.15/Resources/bin/R CMD check --no-vignettes --timings --no-multiarch RedeR_1.2.5.tar.gz |
| StartedAt: 2012-09-24 01:30:14 -0700 (Mon, 24 Sep 2012) |
| EndedAt: 2012-09-24 01:31:44 -0700 (Mon, 24 Sep 2012) |
| EllapsedTime: 90.1 seconds |
| RetCode: 0 |
| Status: OK |
| CheckDir: RedeR.Rcheck |
| Warnings: 0 |
* using log directory '/Users/biocbuild/bbs-2.10-bioc/meat/RedeR.Rcheck'
* using R version 2.15.1 (2012-06-22)
* using platform: i386-apple-darwin9.8.0 (32-bit)
* using session charset: ASCII
* using option '--no-vignettes'
* checking for file 'RedeR/DESCRIPTION' ... OK
* checking extension type ... Package
* this is package 'RedeR' version '1.2.5'
* checking package namespace information ... OK
* checking package dependencies ... OK
* checking if this is a source package ... OK
* checking if there is a namespace ... OK
* checking whether package 'RedeR' can be installed ... OK
* checking installed package size ... NOTE
installed size is 8.4Mb
sub-directories of 1Mb or more:
data 3.2Mb
java 4.5Mb
* checking package directory ... OK
* checking for portable file names ... OK
* checking for sufficient/correct file permissions ... OK
* checking DESCRIPTION meta-information ... OK
* checking top-level files ... OK
* checking index information ... OK
* checking package subdirectories ... OK
* checking R files for non-ASCII characters ... OK
* checking R files for syntax errors ... OK
* checking whether the package can be loaded ... OK
* checking whether the package can be loaded with stated dependencies ... OK
* checking whether the package can be unloaded cleanly ... OK
* checking whether the namespace can be loaded with stated dependencies ... OK
* checking whether the namespace can be unloaded cleanly ... OK
* checking for unstated dependencies in R code ... OK
* checking S3 generic/method consistency ... OK
* checking replacement functions ... OK
* checking foreign function calls ... OK
* checking R code for possible problems ... OK
* checking Rd files ... OK
* checking Rd metadata ... OK
* checking Rd cross-references ... OK
* checking for missing documentation entries ... OK
* checking for code/documentation mismatches ... OK
* checking Rd \usage sections ... OK
* checking Rd contents ... OK
* checking for unstated dependencies in examples ... OK
* checking contents of 'data' directory ... OK
* checking data for non-ASCII characters ... OK
* checking data for ASCII and uncompressed saves ... OK
* checking sizes of PDF files under 'inst/doc' ... OK
* checking installed files from 'inst/doc' ... OK
* checking examples ... OK
* checking for unstated dependencies in vignettes ... OK
* checking package vignettes in 'inst/doc' ... OK
* checking running R code from vignettes ... SKIPPED
* checking re-building of vignettes ... SKIPPED
* checking PDF version of manual ... OK
NOTE: There was 1 note.
See
'/Users/biocbuild/bbs-2.10-bioc/meat/RedeR.Rcheck/00check.log'
for details.
RedeR.Rcheck/00install.out:
* installing *source* package 'RedeR' ... ** R ** data ** inst ** preparing package for lazy loading ** help *** installing help indices ** building package indices ** installing vignettes 'RedeR.Rnw' ** testing if installed package can be loaded * DONE (RedeR)
RedeR.Rcheck/RedeR-Ex.timings:
| name | user | system | elapsed | |
| PluginBuilder-class | 0.003 | 0.000 | 0.003 | |
| PluginBuilder | 0.002 | 0.000 | 0.004 | |
| RedPort-class | 0.001 | 0.000 | 0.001 | |
| RedPort | 0.001 | 0.000 | 0.002 | |
| RedeR.data | 0.939 | 0.042 | 0.981 | |
| addEdgeBetweenContainers | 0.003 | 0.000 | 0.003 | |
| addEdges | 0.000 | 0.000 | 0.001 | |
| addGraph | 0.001 | 0.000 | 0.002 | |
| addLegend | 0.000 | 0.001 | 0.001 | |
| addNodes | 0.001 | 0.000 | 0.001 | |
| addSeries | 0.001 | 0.000 | 0.001 | |
| addSubgraph | 0.001 | 0.000 | 0.001 | |
| addSubgraph.list | 0.000 | 0.000 | 0.001 | |
| att | 0.108 | 0.006 | 0.114 | |
| calld | 0.000 | 0.000 | 0.001 | |
| cea | 1.664 | 0.222 | 1.891 | |
| deSelectEdges | 0.001 | 0.000 | 0.001 | |
| deSelectGraph | 0.001 | 0.000 | 0.001 | |
| deSelectNodes | 0.000 | 0.000 | 0.001 | |
| deleteEdges | 0.001 | 0.000 | 0.001 | |
| deleteNodes | 0.000 | 0.001 | 0.000 | |
| deletePlugin | 0.001 | 0.000 | 0.001 | |
| deleteSelectedEdges | 0.001 | 0.000 | 0.001 | |
| deleteSelectedNodes | 0 | 0 | 0 | |
| duplicateGraph | 0.000 | 0.000 | 0.001 | |
| dynwin | 0.000 | 0.000 | 0.001 | |
| exitd | 0.001 | 0.001 | 0.000 | |
| getArrowDirection | 0.001 | 0.000 | 0.001 | |
| getContainerComponets | 0.001 | 0.000 | 0.001 | |
| getEdgeColor | 0.000 | 0.001 | 0.001 | |
| getEdgeIDs | 0.001 | 0.000 | 0.001 | |
| getEdgeType | 0.001 | 0.000 | 0.001 | |
| getEdgeWeight | 0.000 | 0.001 | 0.001 | |
| getEdgeWidth | 0.001 | 0.000 | 0.001 | |
| getEdges | 0.001 | 0.000 | 0.001 | |
| getGraph | 0.000 | 0.001 | 0.001 | |
| getNodeAliases | 0.001 | 0.000 | 0.001 | |
| getNodeBend | 0.001 | 0.000 | 0.001 | |
| getNodeColor | 0.001 | 0.000 | 0.001 | |
| getNodeFontColor | 0.000 | 0.000 | 0.001 | |
| getNodeFontName | 0.001 | 0.000 | 0.000 | |
| getNodeFontSize | 0.001 | 0.000 | 0.001 | |
| getNodeFontStyle | 0.000 | 0.000 | 0.001 | |
| getNodeFontX | 0.001 | 0.000 | 0.001 | |
| getNodeFontY | 0.000 | 0.000 | 0.001 | |
| getNodeH | 0.001 | 0.000 | 0.001 | |
| getNodeIDs | 0.001 | 0.001 | 0.001 | |
| getNodeLineColor | 0.003 | 0.000 | 0.003 | |
| getNodeLineWidth | 0.001 | 0.001 | 0.001 | |
| getNodeShape | 0.001 | 0.000 | 0.001 | |
| getNodeSize | 0.000 | 0.000 | 0.001 | |
| getNodeW | 0.001 | 0.000 | 0.001 | |
| getNodeWeight | 0.001 | 0.000 | 0.001 | |
| getNodeX | 0.001 | 0.000 | 0.002 | |
| getNodeY | 0.001 | 0.000 | 0.001 | |
| getNodes | 0.001 | 0.001 | 0.001 | |
| getSourceEdgeIDs | 0.002 | 0.000 | 0.002 | |
| getSourceEdges | 0.001 | 0.000 | 0.001 | |
| getTargetEdgeIDs | 0.001 | 0.000 | 0.001 | |
| getTargetEdges | 0.001 | 0.000 | 0.001 | |
| gtoy.rm | 0 | 0 | 0 | |
| isDynamicsActive | 0.001 | 0.001 | 0.001 | |
| mergeNodes | 0.001 | 0.000 | 0.001 | |
| mergeOutEdges | 0.001 | 0.000 | 0.001 | |
| nestNodes | 0.001 | 0.000 | 0.001 | |
| nesthc | 0 | 0 | 0 | |
| ping | 0.001 | 0.000 | 0.001 | |
| pluginParser | 0.000 | 0.000 | 0.001 | |
| relax | 0.002 | 0.001 | 0.002 | |
| resetd | 0.002 | 0.000 | 0.001 | |
| selectAllEdges | 0.002 | 0.001 | 0.002 | |
| selectAllNodes | 0.001 | 0.000 | 0.001 | |
| selectEdges | 0.001 | 0.001 | 0.002 | |
| selectGraph | 0.001 | 0.000 | 0.001 | |
| selectNodes | 0.001 | 0.000 | 0.001 | |
| setArrowDirection | 0.001 | 0.000 | 0.002 | |
| setEdgeColor | 0.002 | 0.000 | 0.002 | |
| setEdgeType | 0.001 | 0.000 | 0.001 | |
| setEdgeWeight | 0.001 | 0.001 | 0.001 | |
| setEdgeWidth | 0.001 | 0.000 | 0.001 | |
| setNodeAliases | 0.002 | 0.001 | 0.002 | |
| setNodeBend | 0.001 | 0.000 | 0.002 | |
| setNodeColor | 0.001 | 0.001 | 0.001 | |
| setNodeFontColor | 0.002 | 0.000 | 0.001 | |
| setNodeFontName | 0.001 | 0.001 | 0.001 | |
| setNodeFontSize | 0.001 | 0.000 | 0.002 | |
| setNodeFontStyle | 0.001 | 0.001 | 0.001 | |
| setNodeFontXY | 0.001 | 0.000 | 0.001 | |
| setNodeLineColor | 0.001 | 0.000 | 0.001 | |
| setNodeLineWidth | 0.001 | 0.001 | 0.002 | |
| setNodeShape | 0.001 | 0.000 | 0.001 | |
| setNodeSize | 0.001 | 0.000 | 0.001 | |
| setNodeWeight | 0.001 | 0.001 | 0.001 | |
| setNodeXY | 0.001 | 0.000 | 0.001 | |
| subg | 0.163 | 0.010 | 0.173 | |
| submitPlugin | 0.001 | 0.000 | 0.001 | |
| updateContainerSize | 0.001 | 0.000 | 0.002 | |
| updateGraph | 0.001 | 0.001 | 0.002 | |
| updatePlugins | 0.001 | 0.000 | 0.001 | |
| version | 0.001 | 0.000 | 0.001 | |