ReQON 1.3.9 Christopher Cabanski
 | Snapshot Date: 2012-09-23 17:01:39 -0700 (Sun, 23 Sep 2012) |  | URL: https://hedgehog.fhcrc.org/bioconductor/branches/RELEASE_2_10/madman/Rpacks/ReQON |  | Last Changed Rev: 69044 / Revision: 69725 |  | Last Changed Date: 2012-09-04 09:08:04 -0700 (Tue, 04 Sep 2012) |  
  | lamb2  | Linux (openSUSE 11.4) / x86_64  |  OK  |  OK  |  | 
| moscato2  | Windows Server 2008 R2 Enterprise SP1 (64-bit) / x64  |  OK  |  OK  |  OK  | 
| petty  | Mac OS X Leopard (10.5.8) / i386  |  OK  |  OK  | [ OK ] | 
* installing to library '/Library/Frameworks/R.framework/Versions/2.15/Resources/library'
* installing *source* package 'ReQON' ...
** R
** inst
** preparing package for lazy loading
** help
*** installing help indices
** building package indices
** installing vignettes
   'ReQON.Rnw' 
packaged installation of 'ReQON' as 'ReQON_1.3.9.tgz'
* DONE (ReQON)