| Back to the "Multiple platform build/check report" | A [B] C D E F G H I J K L M N O P Q R S T U V W X Y Z |
| Package 65/553 | Hostname | OS / Arch | BUILD | CHECK | BUILD BIN | ||||
| BiocInstaller 1.4.7 Bioconductor Package Maintainer
| lamb2 | Linux (openSUSE 11.4) / x86_64 | OK | OK | |||||
| moscato2 | Windows Server 2008 R2 Enterprise SP1 (64-bit) / x64 | [ OK ] | OK | OK | |||||
| petty | Mac OS X Leopard (10.5.8) / i386 | OK | OK | OK |
| Package: BiocInstaller |
| Version: 1.4.7 |
| Command: chmod a+r BiocInstaller -R && E:\biocbld\bbs-2.10-bioc\R\bin\R.exe CMD build --keep-empty-dirs --no-resave-data BiocInstaller |
| StartedAt: 2012-09-23 22:57:43 -0700 (Sun, 23 Sep 2012) |
| EndedAt: 2012-09-23 22:57:50 -0700 (Sun, 23 Sep 2012) |
| EllapsedTime: 6.8 seconds |
| RetCode: 0 |
| Status: OK |
| PackageFile: BiocInstaller_1.4.7.tar.gz |
| PackageFileSize: 11.2 KiB |
* checking for file 'BiocInstaller/DESCRIPTION' ... OK * preparing 'BiocInstaller': * checking DESCRIPTION meta-information ... OK * checking for LF line-endings in source and make files * checking for empty or unneeded directories * building 'BiocInstaller_1.4.7.tar.gz'