| mgsa 1.4.0 Sebastian Bauer
 
 | Snapshot Date: 2012-09-23 17:01:39 -0700 (Sun, 23 Sep 2012) |  | URL: https://hedgehog.fhcrc.org/bioconductor/branches/RELEASE_2_10/madman/Rpacks/mgsa |  | Last Changed Rev: 64678 / Revision: 69725 |  | Last Changed Date: 2012-03-30 15:05:02 -0700 (Fri, 30 Mar 2012) | 
 | lamb2 | Linux (openSUSE 11.4) / x86_64 | OK | OK |  | 
| moscato2 | Windows Server 2008 R2 Enterprise SP1 (64-bit) / x64 | OK | OK | [ OK ] | 
| petty | Mac OS X Leopard (10.5.8) / i386 | OK | OK | OK | 
install for i386
* installing *source* package 'mgsa' ...
   **********************************************
   WARNING: this package has a configure script
         It probably needs manual configuration
   **********************************************
** libs
gcc  -I"E:/biocbld/BBS-2˜1.10-/R/include" -DNDEBUG          -O3 -Wall  -std=gnu99 -mtune=core2 -c mgsa.c -o mgsa.o
mgsa.c: In function 'ts_R_alloc':
mgsa.c:57:0: warning: ignoring #pragma omp critical [-Wunknown-pragmas]
mgsa.c: In function 'mgsa_mcmc':
mgsa.c:1432:0: warning: ignoring #pragma omp parallel [-Wunknown-pragmas]
mgsa.c:1438:0: warning: ignoring #pragma omp critical [-Wunknown-pragmas]
gcc -shared -s -static-libgcc -o mgsa.dll tmp.def mgsa.o -LE:/biocbld/BBS-2˜1.10-/R/bin/i386 -lR
installing to E:/biocbld/bbs-2.10-bioc/meat/mgsa.buildbin-libdir/mgsa/libs/i386
** R
** data
** inst
** preparing package for lazy loading
Creating a generic function for 'plot' from package 'graphics' in package 'mgsa'
** help
*** installing help indices
** building package indices
** installing vignettes
   'mgsa.Rnw' 
** testing if installed package can be loaded
install for x64
* installing *source* package 'mgsa' ...
   **********************************************
   WARNING: this package has a configure script
         It probably needs manual configuration
   **********************************************
** libs
gcc -m64 -I"E:/biocbld/BBS-2˜1.10-/R/include" -DNDEBUG     -I"d:/RCompile/CRANpkg/extralibs64/local/include"     -O2 -Wall  -std=gnu99 -mtune=core2 -c mgsa.c -o mgsa.o
mgsa.c: In function 'ts_R_alloc':
mgsa.c:57:0: warning: ignoring #pragma omp critical [-Wunknown-pragmas]
mgsa.c: In function 'mgsa_mcmc':
mgsa.c:1432:0: warning: ignoring #pragma omp parallel [-Wunknown-pragmas]
mgsa.c:1438:0: warning: ignoring #pragma omp critical [-Wunknown-pragmas]
gcc -m64 -shared -s -static-libgcc -o mgsa.dll tmp.def mgsa.o -Ld:/RCompile/CRANpkg/extralibs64/local/lib/x64 -Ld:/RCompile/CRANpkg/extralibs64/local/lib -LE:/biocbld/BBS-2˜1.10-/R/bin/x64 -lR
installing to E:/biocbld/bbs-2.10-bioc/meat/mgsa.buildbin-libdir/mgsa/libs/x64
** testing if installed package can be loaded
* MD5 sums
packaged installation of 'mgsa' as mgsa_1.4.0.zip
* DONE (mgsa)