lungExpression 0.0.6 Robert Scharpf
 | Snapshot Date: 2008-04-10 00:02:38 -0700 (Thu, 10 Apr 2008) |  | URL: https://hedgehog.fhcrc.org/bioc-data/trunk/experiment/pkgs/lungExpression |  | Last Changed Rev: 409 / Revision: 624 |  | Last Changed Date: 2007-08-06 12:14:18 -0700 (Mon, 06 Aug 2007) |  
  | lamb1  | Linux (SUSE 10.1) / x86_64  |  OK  |  OK  |  | 
| lemming  | Windows Server 2003 (32-bit) / x64  |  OK  |  OK  |  OK  | 
| pitt  | Mac OS X Tiger (10.4.11) / i386  |  OK  |  OK  | [ OK ] | 
                INSTALLATION WITH 'R CMD INSTALL lungExpression_0.0.6.tar.gz'
* Installing to library 'lungExpression.buildbin-libdir'
* Installing *source* package 'lungExpression' ...
** data
** help
 >>> Building/Updating help pages for package 'lungExpression'
     Formats: text html latex example 
  harvard                           text    html    latex   example
  michigan                          text    html    latex   example
  stanford                          text    html    latex   example
** building package indices ...
* DONE (lungExpression)