| Back to the "Multiple platform build/check report" |
| Package 33/55 | Hostname | OS / Arch | BUILD | CHECK | BUILD BIN | ||||
| lumiBarnes 1.3.3 Pan Du
| lamb1 | Linux (SUSE 10.1) / x86_64 | OK | OK | |||||
| lemming | Windows Server 2003 (32-bit) / x64 | OK | OK | OK | |||||
| pitt | Mac OS X Tiger (10.4.11) / i386 | [ OK ] | OK | OK |
| Package: lumiBarnes |
| Version: 1.3.3 |
| Command: /Library/Frameworks/R.framework/Resources/bin/R CMD build lumiBarnes |
| StartedAt: 2008-04-10 00:59:52 -0700 (Thu, 10 Apr 2008) |
| EndedAt: 2008-04-10 00:59:56 -0700 (Thu, 10 Apr 2008) |
| EllapsedTime: 4.3 seconds |
| RetCode: 0 |
| Status: OK |
| PackageFile: lumiBarnes_1.3.3.tar.gz |
| PackageFileSize: 4.985 MiB |
* checking for file 'lumiBarnes/DESCRIPTION' ... OK * preparing 'lumiBarnes': * checking DESCRIPTION meta-information ... OK * removing junk files * checking for LF line-endings in source and make files * checking for empty or unneeded directories * building 'lumiBarnes_1.3.3.tar.gz'