| splots 1.4.0 Oleg Sklyar
 
 | Snapshot Date: 2008-04-02 12:12:36 -0700 (Wed, 02 Apr 2008) |  | URL: https://hedgehog.fhcrc.org/bioconductor/branches/RELEASE_2_1/madman/Rpacks/splots |  | Last Changed Rev: 27709 / Revision: 30807 |  | Last Changed Date: 2007-10-02 17:41:09 -0700 (Tue, 02 Oct 2007) | 
 | lamb1 | Linux (SUSE 10.1) / x86_64 | OK | OK |  | 
| wilson2 | Linux (openSUSE 10.3) / x86_64 | OK | OK |  | 
| wellington | Linux (openSUSE 10.3) / i686 | OK | OK |  | 
| liverpool | Windows Server 2003 R2 (32-bit) / x64 | [ OK ] | OK | OK | 
| lemming | Windows Server 2003 (32-bit) / x64 | OK | OK | OK | 
| pitt | Mac OS X Tiger (10.4.11) / i386 | OK | OK | OK | 
* checking for file 'splots/DESCRIPTION' ... OK
* preparing 'splots':
* checking DESCRIPTION meta-information ... OK
* installing the package to re-build vignettes
installing R.css in E:/biocbld/bbs-2.1-bioc/tmpdir/Rinst399615280
---------- Making package splots ------------
  adding build stamp to DESCRIPTION
  installing NAMESPACE file and metadata
  installing R files
  installing inst files
  installing data files
  preparing package splots for lazy loading
Loading required package: grid
  installing man source files
  installing indices
  not zipping data
  installing help
 >>> Building/Updating help pages for package 'splots'
     Formats: text html latex example chm 
  internals                         text    html    latex           chm
  plotScreen                        text    html    latex   example chm
Microsoft HTML Help Compiler 4.74.8702
Compiling e:\biocbld\bbs-2.1-bioc\meat\splots\chm\splots.chm
Compile time: 0 minutes, 0 seconds
3	Topics
3	Local links
0	Internet links
1	Graphic
Created e:\biocbld\bbs-2.1-bioc\meat\splots\chm\splots.chm, 18,115 bytes
Compression increased file by 7,649 bytes.
  adding MD5 sums
* DONE (splots)
* creating vignettes ... OK
* removing junk files
* checking for LF line-endings in source and make files
* checking for empty or unneeded directories
* building 'splots_1.4.0.tar.gz'