| MCRestimate 1.10.5 Markus Ruschhaupt
 
 | Snapshot Date: 2008-04-02 12:12:36 -0700 (Wed, 02 Apr 2008) |  | URL: https://hedgehog.fhcrc.org/bioconductor/branches/RELEASE_2_1/madman/Rpacks/MCRestimate |  | Last Changed Rev: 29418 / Revision: 30807 |  | Last Changed Date: 2008-01-07 02:05:19 -0800 (Mon, 07 Jan 2008) | 
 | lamb1 | Linux (SUSE 10.1) / x86_64 | OK | OK |  | 
| wilson2 | Linux (openSUSE 10.3) / x86_64 | OK | OK |  | 
| wellington | Linux (openSUSE 10.3) / i686 | OK | OK |  | 
| liverpool | Windows Server 2003 R2 (32-bit) / x64 | [ OK ] | OK | OK | 
| lemming | Windows Server 2003 (32-bit) / x64 | OK | OK | OK | 
| pitt | Mac OS X Tiger (10.4.11) / i386 | OK | OK | OK | 
* checking for file 'MCRestimate/DESCRIPTION' ... OK
* preparing 'MCRestimate':
* checking DESCRIPTION meta-information ... OK
* installing the package to re-build vignettes
installing R.css in E:/biocbld/bbs-2.1-bioc/tmpdir/Rinst34890789
---------- Making package MCRestimate ------------
  adding build stamp to DESCRIPTION
  installing R files
  installing inst files
  preparing package MCRestimate for lazy loading
Loading required package: e1071
Loading required package: class
Loading required package: pamr
Loading required package: cluster
Loading required package: survival
Loading required package: splines
Loading required package: randomForest
randomForest 4.5-23
Type rfNews() to see new features/changes/bug fixes.
Loading required package: RColorBrewer
Loading required package: Biobase
Loading required package: tools
Welcome to Bioconductor
  Vignettes contain introductory material. To view, type
  'openVignette()'. To cite Bioconductor, see
  'citation("Biobase")' and for packages 'citation(pkgname)'.
Attaching package: 'Biobase'
	The following object(s) are masked from package:randomForest :
	 combine 
Loading required package: golubEsets
Loading required package: arrayMagic
Loading required package: vsn
Loading required package: affy
Loading required package: affyio
Loading required package: preprocessCore
Loading required package: limma
Loading required package: genefilter
Loading required package: gpls
Loading required package: ROC
Attaching package: 'ROC'
	The following object(s) are masked from package:genefilter :
	 AUC,
	 pAUC 
  installing man source files
  installing indices
  installing help
 >>> Building/Updating help pages for package 'MCRestimate'
     Formats: text html latex example chm 
  ClassifierBuild                   text    html    latex   example chm
  MCRconfusion                      text    html    latex   example chm
  MCRestimate                       text    html    latex   example chm
  MCRestimateMerge                  text    html    latex   example chm
  PLR                               text    html    latex   example chm
  PLR.add.fkt                       text    html    latex   example chm
  SVM.OVA.wrap                      text    html    latex   example chm
  class.factor.format               text    html    latex   example chm
  gene.reduction.fkt                text    html    latex   example chm
  geneReduction                     text    html    latex   example chm
  important.variable.names          text    html    latex   example chm
  intersectList                     text    html    latex   example chm
  plot.MCRestimate                  text    html    latex   example chm
  replace.NA                        text    html    latex   example chm
  select.NA.elements                text    html    latex   example chm
  whatiscorrect                     text    html    latex   example chm
  wrapper.fkt                       text    html    latex   example chm
Microsoft HTML Help Compiler 4.74.8702
Compiling e:\biocbld\bbs-2.1-bioc\meat\MCRestimate\chm\MCRestimate.chm
Compile time: 0 minutes, 1 second
18	Topics
62	Local links
0	Internet links
1	Graphic
Created e:\biocbld\bbs-2.1-bioc\meat\MCRestimate\chm\MCRestimate.chm, 37,366 bytes
Compression decreased file by 31,315 bytes.
  adding MD5 sums
* DONE (MCRestimate)
* creating vignettes ... OK
* removing junk files
* checking for LF line-endings in source and make files
* checking for empty or unneeded directories
* building 'MCRestimate_1.10.5.tar.gz'