Back to the "Multiple platform build/check report"
| Package 10/48 | Hostname | OS | Arch | BUILD | CHECK | BUILD BIN |
davidTiling1.2.4Wolfgang HuberLast Changed Date: 2007-04-15 15:31:28 -0700 Last Changed Rev: 258 | lamb1 | Linux (SUSE 10.1) | x86_64 | [ OK ] | OK | |
| lemming | Windows Server 2003 (32-bit) | x64 | OK | OK | OK |
| Package: davidTiling |
| Version: 1.2.4 |
| Command: /home/biocbuild/bbs-2.0-bioc/R/bin/R CMD build davidTiling |
| RetCode: 0 |
| Time: 85.0 seconds |
| Status: OK |
| PackageFile: davidTiling_1.2.4.tar.gz |
* checking for file 'davidTiling/DESCRIPTION' ... OK * preparing 'davidTiling': * checking DESCRIPTION meta-information ... OK * removing junk files * checking for LF line-endings in source files * checking for empty or unneeded directories * building 'davidTiling_1.2.4.tar.gz'