Back to the "Multiple platform build/check report"
| Package 42/48 | Hostname | OS | Arch | BUILD | CHECK | BUILD BIN |
SpikeInSubset1.2.5Rafael A. IrizarryLast Changed Date: 2007-05-12 13:07:24 -0700 Last Changed Rev: 295 | lamb1 | Linux (SUSE 10.1) | x86_64 | [ OK ] | OK | |
| lemming | Windows Server 2003 (32-bit) | x64 | OK | OK | OK |
| Package: SpikeInSubset |
| Version: 1.2.5 |
| Command: /home/biocbuild/bbs-2.0-bioc/R/bin/R CMD build SpikeInSubset |
| RetCode: 0 |
| Time: 2.6 seconds |
| Status: OK |
| PackageFile: SpikeInSubset_1.2.5.tar.gz |
* checking for file 'SpikeInSubset/DESCRIPTION' ... OK * preparing 'SpikeInSubset': * checking DESCRIPTION meta-information ... OK * removing junk files * checking for LF line-endings in source files * checking for empty or unneeded directories * building 'SpikeInSubset_1.2.5.tar.gz'