Back to the "Multiple platform build/check report"
| Package 118/214 | Hostname | OS | Arch | BUILD | CHECK | BUILD BIN | 
makePlatformDesign1.0.0Benilton CarvalhoLast Changed Date: 2007-04-24 11:21:48 -0700 Last Changed Rev: 24214  | lamb1 | Linux (SUSE 10.1) | x86_64 | OK | OK | |
| wellington | Linux (SUSE 9.2) | i686 | OK | OK | ||
| lemming | Windows Server 2003 (32-bit) | x64 | OK | OK | [ OK ] | 
| Package: makePlatformDesign | 
| Version: 1.0.0 | 
| Command: D:\biocbld\bbs-2.0-bioc\R\bin\R.exe CMD INSTALL --build --library=makePlatformDesign.buildbin-libdir makePlatformDesign_1.0.0.tar.gz | 
| RetCode: 0 | 
| Time: 22.5 seconds | 
| Status: OK | 
| PackageFile: makePlatformDesign_1.0.0.zip | 
installing R.css in D:/biocbld/bbs-2.0-bioc/meat/makePlatformDesign.buildbin-libdir
Using auto-selected zip options ''
---------- Making package makePlatformDesign ------------
  adding build stamp to DESCRIPTION
  making DLL ...
making main.d from main.c
making strutils.d from strutils.c
gcc   -ID:/biocbld/bbs-2.0-bioc/R/include  -Wall -O3 -std=gnu99   -c main.c -o main.o
main.c: In function `strstr_with_pmormm':
main.c:70: warning: suggest parentheses around assignment used as truth value
main.c:87: warning: suggest parentheses around assignment used as truth value
main.c: In function `MP_matchprobes':
main.c:111: warning: 'rvpos' might be used uninitialized in this function
gcc   -ID:/biocbld/bbs-2.0-bioc/R/include  -Wall -O3 -std=gnu99   -c strutils.c -o strutils.o
strutils.c:242:1: warning: "/*" within comment
windres -I D:/biocbld/bbs-2.0-bioc/R/include  -i makePlatformDesign_res.rc -o makePlatformDesign_res.o
gcc  -shared -s  -o makePlatformDesign.dll makePlatformDesign.def main.o strutils.o makePlatformDesign_res.o  -LD:/biocbld/bbs-2.0-bioc/R/bin    -lR
  ... DLL made
  installing DLL
  installing R files
  installing inst files
  installing man source files
  installing indices
  installing help
 >>> Building/Updating help pages for package 'makePlatformDesign'
     Formats: text html latex example chm 
  makePDpackage                     text    html    latex   example chm
  makePlatformDesign-internal       text    html    latex           chm
Microsoft HTML Help Compiler 4.74.8702
Compiling d:\biocbld\bbs-2.0-bioc\meat\R.INSTALL.6072\makePlatformDesign\chm\makePlatformDesign.chm
Compile time: 0 minutes, 0 seconds
3	Topics
36	Local links
0	Internet links
1	Graphic
Created d:\biocbld\bbs-2.0-bioc\meat\R.INSTALL.6072\makePlatformDesign\chm\makePlatformDesign.chm, 18,871 bytes
Compression decreased file by 1,936 bytes.
  preparing package makePlatformDesign for lazy loading
Loading required package: affyio
Loading required package: oligo
Loading required package: Biobase
Loading required package: tools
Welcome to Bioconductor
  Vignettes contain introductory material. To view, type
  'openVignette()'. To cite Bioconductor, see
  'citation("Biobase")' and for packages 'citation(pkgname)'.
Loading required package: splines
Loading required package: RSQLite
Loading required package: DBI
Loading required package: BufferedMatrix
Loading required package: BufferedMatrixMethods
This is the oligo package
  adding MD5 sums
packaged installation of package 'makePlatformDesign' as makePlatformDesign_1.0.0.zip
* DONE (makePlatformDesign)