Back to the "Multiple platform build/check report"
| Package 97/214 | Hostname | OS | Arch | BUILD | CHECK | BUILD BIN | 
hypergraph1.8.0Seth FalconLast Changed Date: 2007-04-24 11:21:48 -0700 Last Changed Rev: 24214  | lamb1 | Linux (SUSE 10.1) | x86_64 | OK | OK | |
| wellington | Linux (SUSE 9.2) | i686 | OK | OK | ||
| lemming | Windows Server 2003 (32-bit) | x64 | OK | OK | [ OK ] | 
| Package: hypergraph | 
| Version: 1.8.0 | 
| Command: D:\biocbld\bbs-2.0-bioc\R\bin\R.exe CMD INSTALL --build --library=hypergraph.buildbin-libdir hypergraph_1.8.0.tar.gz | 
| RetCode: 0 | 
| Time: 12.5 seconds | 
| Status: OK | 
| PackageFile: hypergraph_1.8.0.zip | 
installing R.css in D:/biocbld/bbs-2.0-bioc/meat/hypergraph.buildbin-libdir
Using auto-selected zip options ''
---------- Making package hypergraph ------------
  adding build stamp to DESCRIPTION
  installing NAMESPACE file and metadata
  installing R files
  save image
Loading required package: graph
  installing inst files
  installing man source files
  installing indices
  installing help
 >>> Building/Updating help pages for package 'hypergraph'
     Formats: text html latex example chm 
  DirectedHyperedge-class           text    html    latex   example chm
  DirectedHyperedge                 text    html    latex           chm
  Hyperedge-class                   text    html    latex   example chm
  Hyperedge                         text    html    latex           chm
  Hypergraph-class                  text    html    latex   example chm
  Hypergraph                        text    html    latex           chm
  kCores                            text    html    latex   example chm
  l2hel                             text    html    latex   example chm
  vCover                            text    html    latex   example chm
Microsoft HTML Help Compiler 4.74.8702
Compiling d:\biocbld\bbs-2.0-bioc\meat\R.INSTALL.6140\hypergraph\chm\hypergraph.chm
Compile time: 0 minutes, 1 second
10	Topics
75	Local links
0	Internet links
1	Graphic
Created d:\biocbld\bbs-2.0-bioc\meat\R.INSTALL.6140\hypergraph\chm\hypergraph.chm, 24,507 bytes
Compression decreased file by 14,675 bytes.
  adding MD5 sums
packaged installation of package 'hypergraph' as hypergraph_1.8.0.zip
* DONE (hypergraph)