Back to the "Multiple platform build/check report"
| Package 65/214 | Hostname | OS | Arch | BUILD | CHECK | BUILD BIN | 
fdrame1.8.0Effi KenigsbergLast Changed Date: 2007-04-24 11:21:48 -0700 Last Changed Rev: 24214  | lamb1 | Linux (SUSE 10.1) | x86_64 | OK | OK | |
| wellington | Linux (SUSE 9.2) | i686 | OK | [ OK ] | ||
| lemming | Windows Server 2003 (32-bit) | x64 | OK | OK | OK | 
| Package: fdrame | 
| Version: 1.8.0 | 
| Command: /loc/biocbuild/bbs-2.0-bioc/R/bin/R CMD check fdrame_1.8.0.tar.gz | 
| RetCode: 0 | 
| Time: 63.6 seconds | 
| Status: OK | 
| CheckDir: fdrame.Rcheck | 
| Warnings: 0 | 
* checking for working latex ... OK * using log directory '/extra/loc/biocbuild/bbs-2.0-bioc/meat/fdrame.Rcheck' * using R version 2.5.1 (2007-06-27) * checking for file 'fdrame/DESCRIPTION' ... OK * this is package 'fdrame' version '1.8.0' * checking package dependencies ... OK * checking if this is a source package ... OK * checking whether package 'fdrame' can be installed ... OK * checking package directory ... OK * checking for portable file names ... OK * checking for sufficient/correct file permissions ... OK * checking DESCRIPTION meta-information ... OK * checking top-level files ... OK * checking index information ... OK * checking package subdirectories ... OK * checking R files for non-ASCII characters ... OK * checking R files for syntax errors ... OK * checking whether the package can be loaded ... OK * checking whether the package can be loaded with stated dependencies ... OK * checking for unstated dependencies in R code ... OK * checking S3 generic/method consistency ... OK * checking replacement functions ... OK * checking foreign function calls ... OK * checking R code for possible problems ... OK * checking Rd files ... OK * checking Rd cross-references ... OK * checking for missing documentation entries ... OK * checking for code/documentation mismatches ... OK * checking Rd \usage sections ... OK * checking data for non-ASCII characters ... OK * checking for CRLF line endings in C/C++/Fortran sources/headers ... OK * checking for portable use of $BLAS_LIBS ... OK * creating fdrame-Ex.R ... OK * checking examples ... OK * checking package vignettes in 'inst/doc' ... OK * creating fdrame-manual.tex ... OK * checking fdrame-manual.tex ... OK
fdrame.Rcheck/00install.out:
* Installing *source* package 'fdrame' ...
** libs
gcc -std=gnu99 -I/loc/biocbuild/bbs-2.0-bioc/R/include -I/loc/biocbuild/bbs-2.0-bioc/R/include  -I/usr/local/include    -fpic  -g -O2 -Wall -c fdr.c -o fdr.o
gcc -std=gnu99 -shared -L/usr/local/lib -o fdrame.so fdr.o   -L/loc/biocbuild/bbs-2.0-bioc/R/lib -lR
** R
** data
** inst
** preparing package for lazy loading
** help
 >>> Building/Updating help pages for package 'fdrame'
     Formats: text html latex example 
  design                            text    html    latex   example
  exp.arr                           text    html    latex   example
  fdr-internal                      text    html    latex
  fdrgui                            text    html    latex   example
  fdrma                             text    html    latex   example
** building package indices ...
* DONE (fdrame)