Back to the "Multiple platform build/check report"
| Package 80/214 | Hostname | OS | Arch | BUILD | CHECK | BUILD BIN | 
GeneTraffic1.8.0Daniel IordanLast Changed Date: 2007-04-24 11:21:48 -0700 Last Changed Rev: 24214  | lamb1 | Linux (SUSE 10.1) | x86_64 | OK | OK | |
| wellington | Linux (SUSE 9.2) | i686 | OK | OK | ||
| lemming | Windows Server 2003 (32-bit) | x64 | [ OK ] | OK | OK | 
| Package: GeneTraffic | 
| Version: 1.8.0 | 
| Command: D:\biocbld\bbs-2.0-bioc\R\bin\R.exe CMD build GeneTraffic | 
| RetCode: 0 | 
| Time: 1.5 seconds | 
| Status: OK | 
| PackageFile: GeneTraffic_1.8.0.tar.gz | 
* checking for file 'GeneTraffic/DESCRIPTION' ... OK * preparing 'GeneTraffic': * checking DESCRIPTION meta-information ... OK * checking whether 'INDEX' is up-to-date ... NO * use '--force' to overwrite the existing 'INDEX' * removing junk files * checking for LF line-endings in source files * checking for empty or unneeded directories * building 'GeneTraffic_1.8.0.tar.gz'