Back to the "Multiple platform build/check report"
| Package 81/214 | Hostname | OS | Arch | BUILD | CHECK | BUILD BIN | 
GeneTS2.14.0Korbinian StrimmerLast Changed Date: 2007-04-24 11:21:48 -0700 Last Changed Rev: 24214  | lamb1 | Linux (SUSE 10.1) | x86_64 | [ OK ] | OK | |
| wellington | Linux (SUSE 9.2) | i686 | OK | OK | ||
| lemming | Windows Server 2003 (32-bit) | x64 | OK | OK | OK | 
| Package: GeneTS | 
| Version: 2.14.0 | 
| Command: /home/biocbuild/bbs-2.0-bioc/R/bin/R CMD build GeneTS | 
| RetCode: 0 | 
| Time: 0.5 seconds | 
| Status: OK | 
| PackageFile: GeneTS_2.14.0.tar.gz | 
* checking for file 'GeneTS/DESCRIPTION' ... OK * preparing 'GeneTS': * checking DESCRIPTION meta-information ... OK * removing junk files * checking for LF line-endings in source files * checking for empty or unneeded directories * building 'GeneTS_2.14.0.tar.gz'