Back to the "Multiple platform build/check report"
| Package 34/214 | Hostname | OS | Arch | BUILD | CHECK | BUILD BIN |
Biostrings2.4.8H. PagesLast Changed Date: 2007-08-13 12:41:50 -0700 Last Changed Rev: 26369 | lamb1 | Linux (SUSE 10.1) | x86_64 | OK | OK | |
| wellington | Linux (SUSE 9.2) | i686 | OK | OK | ||
| lemming | Windows Server 2003 (32-bit) | x64 | OK | [ OK ] | OK |
| Package: Biostrings |
| Version: 2.4.8 |
| Command: D:\biocbld\bbs-2.0-bioc\R\bin\R.exe CMD check Biostrings_2.4.8.tar.gz |
| RetCode: 0 |
| Time: 99.3 seconds |
| Status: OK |
| CheckDir: Biostrings.Rcheck |
| Warnings: 0 |
* checking for working latex ... OK * using log directory 'D:/biocbld/bbs-2.0-bioc/meat/Biostrings.Rcheck' * using R version 2.5.1 (2007-06-27) * checking for file 'Biostrings/DESCRIPTION' ... OK * this is package 'Biostrings' version '2.4.8' * checking package dependencies ... OK * checking if this is a source package ... OK * checking whether package 'Biostrings' can be installed ... OK * checking package directory ... OK * checking for portable file names ... OK * checking DESCRIPTION meta-information ... OK * checking top-level files ... OK * checking index information ... OK * checking package subdirectories ... OK * checking R files for non-ASCII characters ... OK * checking R files for syntax errors ... OK * checking whether the package can be loaded ... OK * checking whether the package can be loaded with stated dependencies ... OK * checking whether the name space can be loaded with stated dependencies ... OK * checking for unstated dependencies in R code ... OK * checking S3 generic/method consistency ... OK * checking replacement functions ... OK * checking foreign function calls ... OK * checking R code for possible problems ... OK * checking Rd files ... OK * checking Rd cross-references ... OK * checking for missing documentation entries ... OK * checking for code/documentation mismatches ... OK * checking Rd \usage sections ... OK * checking data for non-ASCII characters ... OK * checking for CRLF line endings in C/C++/Fortran sources/headers ... OK * checking for portable use of $BLAS_LIBS ... OK * creating Biostrings-Ex.R ... OK * checking examples ... OK * checking package vignettes in 'inst/doc' ... OK * creating Biostrings-manual.tex ... OK * checking Biostrings-manual.tex ... OK
Biostrings.Rcheck/00install.out:
installing R.css in D:/biocbld/bbs-2.0-bioc/meat/Biostrings.Rcheck
---------- Making package Biostrings ------------
adding build stamp to DESCRIPTION
installing NAMESPACE file and metadata
making DLL ...
making CharBuffer.d from CharBuffer.c
making IntBuffer.d from IntBuffer.c
making R_init_Biostrings.d from R_init_Biostrings.c
making char_frequency.d from char_frequency.c
making match_boyermoore.d from match_boyermoore.c
making match_naive.d from match_naive.c
making match_shiftor.d from match_shiftor.c
making reverseComplement.d from reverseComplement.c
making utils.d from utils.c
gcc -Id:/biocbld/bbs-2.0-bioc/R/include -Wall -O3 -std=gnu99 -c CharBuffer.c -o CharBuffer.o
gcc -Id:/biocbld/bbs-2.0-bioc/R/include -Wall -O3 -std=gnu99 -c IntBuffer.c -o IntBuffer.o
gcc -Id:/biocbld/bbs-2.0-bioc/R/include -Wall -O3 -std=gnu99 -c R_init_Biostrings.c -o R_init_Biostrings.o
gcc -Id:/biocbld/bbs-2.0-bioc/R/include -Wall -O3 -std=gnu99 -c char_frequency.c -o char_frequency.o
gcc -Id:/biocbld/bbs-2.0-bioc/R/include -Wall -O3 -std=gnu99 -c match_boyermoore.c -o match_boyermoore.o
match_boyermoore.c: In function `match_boyermoore':
match_boyermoore.c:370: warning: 'i1' might be used uninitialized in this function
match_boyermoore.c:370: warning: 'i2' might be used uninitialized in this function
match_boyermoore.c:370: warning: 'j1' might be used uninitialized in this function
match_boyermoore.c:371: warning: 'c' might be used uninitialized in this function
gcc -Id:/biocbld/bbs-2.0-bioc/R/include -Wall -O3 -std=gnu99 -c match_naive.c -o match_naive.o
gcc -Id:/biocbld/bbs-2.0-bioc/R/include -Wall -O3 -std=gnu99 -c match_shiftor.c -o match_shiftor.o
gcc -Id:/biocbld/bbs-2.0-bioc/R/include -Wall -O3 -std=gnu99 -c reverseComplement.c -o reverseComplement.o
gcc -Id:/biocbld/bbs-2.0-bioc/R/include -Wall -O3 -std=gnu99 -c utils.c -o utils.o
utils.c: In function `Biostrings_translate_charcpy_from_i1i2':
utils.c:226: warning: 'lkup_val' might be used uninitialized in this function
utils.c: In function `Biostrings_translate_charcpy_from_subset':
utils.c:265: warning: 'lkup_val' might be used uninitialized in this function
utils.c: In function `Biostrings_translate_charcpy_to_i1i2':
utils.c:305: warning: 'lkup_val' might be used uninitialized in this function
utils.c: In function `Biostrings_translate_charcpy_to_subset':
utils.c:344: warning: 'lkup_val' might be used uninitialized in this function
utils.c: In function `Biostrings_reverse_translate_charcpy_from_i1i2':
utils.c:421: warning: 'lkup_val' might be used uninitialized in this function
windres -I d:/biocbld/bbs-2.0-bioc/R/include -i Biostrings_res.rc -o Biostrings_res.o
gcc -shared -s -o Biostrings.dll Biostrings.def CharBuffer.o IntBuffer.o R_init_Biostrings.o char_frequency.o match_boyermoore.o match_naive.o match_shiftor.o reverseComplement.o utils.o Biostrings_res.o -Ld:/biocbld/bbs-2.0-bioc/R/bin -lR
... DLL made
installing DLL
installing R files
save image
Creating a new generic function for "as.integer" in "Biostrings"
Creating a new generic function for "toString" in "Biostrings"
Creating a new generic function for "nchar" in "Biostrings"
Creating a new generic function for "as.complex" in "Biostrings"
Creating a new generic function for "as.matrix" in "Biostrings"
Creating a new generic function for "as.list" in "Biostrings"
Warning messages:
1: in the method signature for function "BStringViews" no definition for class: "file" in: matchSignature(signature, fdef, where)
2: in the method signature for function "eq" no definition for class: "BioString" in: matchSignature(signature, fdef, where)
installing inst files
installing data files
installing man source files
installing indices
not zipping data
installing help
>>> Building/Updating help pages for package 'Biostrings'
Formats: text html latex example chm
AAString-class text html latex example chm
AMINO_ACID_CODE text html latex example chm
BString-class text html latex example chm
BStringViews-class text html latex chm
BStringViews-constructors text html latex example chm
Biostrings-internals text html latex chm
DNAString-class text html latex example chm
GENETIC_CODE text html latex example chm
IUPAC_CODE_MAP text html latex example chm
RNAString-class text html latex example chm
alphabetFrequency text html latex example chm
blosum50 text html latex example chm
gregexpr2 text html latex example chm
mask text html latex example chm
matchPattern text html latex example chm
matchProbePair text html latex example chm
needwunsQS text html latex example chm
readFASTA text html latex example chm
reverseComplement text html latex example chm
toComplex text html latex example chm
yeastSEQCHR1 text html latex example chm
Microsoft HTML Help Compiler 4.74.8702
Compiling d:\biocbld\bbs-2.0-bioc\meat\Biostrings.Rcheck\00_pkg_src\Biostrings\chm\Biostrings.chm
Compile time: 0 minutes, 0 seconds
22 Topics
280 Local links
1 Internet link
1 Graphic
Created d:\biocbld\bbs-2.0-bioc\meat\Biostrings.Rcheck\00_pkg_src\Biostrings\chm\Biostrings.chm, 43,005 bytes
Compression decreased file by 71,755 bytes.
adding MD5 sums
* DONE (Biostrings)