Back to the "Multiple platform build/check report"
| Package 212/214 | Hostname | OS | Arch | BUILD | CHECK | BUILD BIN |
widgetInvoke1.8.0Jeff GentryLast Changed Date: 2007-04-24 11:21:48 -0700 Last Changed Rev: 24214 | lamb1 | Linux (SUSE 10.1) | x86_64 | OK | ERROR | |
| wellington | Linux (SUSE 9.2) | i686 | OK | ERROR | ||
| churchill | Solaris 2.9 | sparc | ERROR | skipped | ||
| lemming | Windows Server 2003 (32-bit) | x64 | N O T S U P P O R T E D | |||
| liverpool | Windows Server 2003 R2 (32-bit) | x64 | N O T S U P P O R T E D | |||
| derby | Mac OS X (10.4.9) | i686 | [ ERROR ] | skipped | ||
| Package: widgetInvoke |
| Version: 1.8.0 |
| Command: /Library/Frameworks/R.framework/Resources/bin/R CMD build widgetInvoke |
| RetCode: 1 |
| Time: 3.5 seconds |
| Status: ERROR |
| PackageFile: None |
* checking for file 'widgetInvoke/DESCRIPTION' ... OK
* preparing 'widgetInvoke':
* checking DESCRIPTION meta-information ... OK
* installing the package to re-build vignettes
* Installing *source* package 'widgetInvoke' ...
** R
** inst
** save image
Loading required package: XML
Loading required package: RGtk
GLib-ERROR **: could not allocate -1 bytes
aborting...
/Library/Frameworks/R.framework/Resources/bin/INSTALL: line 1: 13371 Done ( echo "options(save.image.defaults=${save_image_defaults})"; echo "invisible(.libPaths(c(\"${lib}\", .libPaths()))); .getRequiredPackages()"; ${code_cmd} )
13372 Abort trap | R_DEFAULT_PACKAGES= LC_ALL=C "${R_EXE}" ${R_save_args} ${save_args}
ERROR: execution of package source for 'widgetInvoke' failed
** Removing '/private/tmp/Rinst1326861652/widgetInvoke'
ERROR
Installation failed.
Removing '/tmp/Rinst1326861652'