Back to the "Multiple platform build/check report"
| Package 199/214 | Hostname | OS | Arch | BUILD | CHECK | BUILD BIN |
splots1.2.0Oleg SklyarLast Changed Date: 2007-04-24 11:21:48 -0700 Last Changed Rev: 24214 | lamb1 | Linux (SUSE 10.1) | x86_64 | OK | OK | |
| wellington | Linux (SUSE 9.2) | i686 | OK | OK | ||
| churchill | Solaris 2.9 | sparc | OK | OK | ||
| lemming | Windows Server 2003 (32-bit) | x64 | OK | OK | OK | |
| liverpool | Windows Server 2003 R2 (32-bit) | x64 | OK | OK | [ OK ] | |
| derby | Mac OS X (10.4.9) | i686 | OK | OK |
| Package: splots |
| Version: 1.2.0 |
| Command: E:\biocbld\bbs-2.0-bioc\R\bin\R.exe CMD INSTALL --build --library=splots.BUILDBINinstdir splots_1.2.0.tar.gz |
| RetCode: 0 |
| Time: 16.0 seconds |
| Status: OK |
| PackageFile: splots_1.2.0.zip |
installing R.css in E:/biocbld/bbs-2.0-bioc/meat/splots.BUILDBINinstdir
Using auto-selected zip options ''
---------- Making package splots ------------
adding build stamp to DESCRIPTION
installing NAMESPACE file and metadata
installing R files
save image
Loading required package: grid
installing inst files
installing data files
installing man source files
installing indices
not zipping data
installing help
>>> Building/Updating help pages for package 'splots'
Formats: text html latex example chm
internals text html latex chm
plotScreen text html latex example chm
Microsoft HTML Help Compiler 4.74.8702
Compiling e:\biocbld\bbs-2.0-bioc\meat\R.INSTALL.5680\splots\chm\splots.chm
Compile time: 0 minutes, 0 seconds
3 Topics
3 Local links
0 Internet links
1 Graphic
Created e:\biocbld\bbs-2.0-bioc\meat\R.INSTALL.5680\splots\chm\splots.chm, 17,973 bytes
Compression increased file by 8,084 bytes.
adding MD5 sums
packaged installation of package 'splots' as splots_1.2.0.zip
* DONE (splots)