Back to the "Multiple platform build/check report"
| Package 173/214 | Hostname | OS | Arch | BUILD | CHECK | BUILD BIN | 
| rHVDM1.2.0Martino BarencoLast Changed Date: 2007-04-24 11:21:48 -0700 Last Changed Rev: 24214 | lamb1 | Linux (SUSE 10.1) | x86_64 | OK | OK | |
| wellington | Linux (SUSE 9.2) | i686 | OK | OK | ||
| churchill | Solaris 2.9 | sparc | [ OK ] | OK | ||
| lemming | Windows Server 2003 (32-bit) | x64 | OK | OK | OK | |
| liverpool | Windows Server 2003 R2 (32-bit) | x64 | OK | OK | OK | |
| derby | Mac OS X (10.4.9) | i686 | OK | OK | 
| Package: rHVDM | 
| Version: 1.2.0 | 
| Command: /loc/biocbuild/bbs-2.0-bioc/R/bin/R CMD build rHVDM | 
| RetCode: 0 | 
| Time: 283.8 seconds | 
| Status: OK | 
| PackageFile: rHVDM_1.2.0.tar.gz | 
* checking for file 'rHVDM/DESCRIPTION' ... OK
* preparing 'rHVDM':
* checking DESCRIPTION meta-information ... OK
* installing the package to re-build vignettes
* Installing *source* package 'rHVDM' ...
** R
** data
** inst
** preparing package for lazy loading
Loading required package: R2HTML
Loading required package: affy
Loading required package: Biobase
Loading required package: tools
Welcome to Bioconductor
  Vignettes contain introductory material. To view, type
  'openVignette()'. To cite Bioconductor, see
  'citation("Biobase")' and for packages 'citation(pkgname)'.
Loading required package: affyio
Loading required package: minpack.lm
** help
 >>> Building/Updating help pages for package 'rHVDM'
     Formats: text html latex example 
  HVDMcheck                         text    html    latex   example
  HVDMreport                        text    html    latex   example
  fitgene                           text    html    latex   example
  fiveGyMAS5                        text    html    latex
  genestoscreen                     text    html    latex
  p53traingenes                     text    html    latex
  screening                         text    html    latex   example
  training                          text    html    latex   example
** building package indices ...
* DONE (rHVDM)
* creating vignettes ... OK
* removing junk files
* checking for LF line-endings in source files
* checking for empty or unneeded directories
* building 'rHVDM_1.2.0.tar.gz'