Back to the "Multiple platform build/check report"
| Package 143/214 | Hostname | OS | Arch | BUILD | CHECK | BUILD BIN |
panp1.6.0Peter WarrenLast Changed Date: 2007-04-24 11:21:48 -0700 Last Changed Rev: 24214 | lamb1 | Linux (SUSE 10.1) | x86_64 | OK | OK | |
| wellington | Linux (SUSE 9.2) | i686 | OK | OK | ||
| churchill | Solaris 2.9 | sparc | OK | OK | ||
| lemming | Windows Server 2003 (32-bit) | x64 | OK | OK | [ OK ] | |
| liverpool | Windows Server 2003 R2 (32-bit) | x64 | OK | OK | OK | |
| derby | Mac OS X (10.4.9) | i686 | OK | OK |
| Package: panp |
| Version: 1.6.0 |
| Command: D:\biocbld\bbs-2.0-bioc\R\bin\R.exe CMD INSTALL --build --library=panp.BUILDBINinstdir panp_1.6.0.tar.gz |
| RetCode: 0 |
| Time: 8.0 seconds |
| Status: OK |
| PackageFile: panp_1.6.0.zip |
installing R.css in D:/biocbld/bbs-2.0-bioc/meat/panp.BUILDBINinstdir
Using auto-selected zip options 'panp-ZIPDATA=zip'
---------- Making package panp ------------
adding build stamp to DESCRIPTION
installing R files
installing inst files
installing data files
installing man source files
installing indices
zipping data
installing help
>>> Building/Updating help pages for package 'panp'
Formats: text html latex example chm
NSMPnames.hgu133a text html latex chm
NSMPnames.hgu133plus2 text html latex chm
gcrma.exprSet text html latex chm
pa.calls text html latex example chm
test133a text html latex chm
Microsoft HTML Help Compiler 4.74.8702
Compiling d:\biocbld\bbs-2.0-bioc\meat\R.INSTALL.6360\panp\chm\panp.chm
Compile time: 0 minutes, 0 seconds
6 Topics
10 Local links
0 Internet links
1 Graphic
Created d:\biocbld\bbs-2.0-bioc\meat\R.INSTALL.6360\panp\chm\panp.chm, 20,907 bytes
Compression increased file by 4,415 bytes.
adding MD5 sums
packaged installation of package 'panp' as panp_1.6.0.zip
* DONE (panp)