Back to the "Multiple platform build/check report"
| Package 111/214 | Hostname | OS | Arch | BUILD | CHECK | BUILD BIN |
lumi1.2.0Pan DuLast Changed Date: 2007-04-24 11:21:48 -0700 Last Changed Rev: 24214 | lamb1 | Linux (SUSE 10.1) | x86_64 | OK | OK | |
| wellington | Linux (SUSE 9.2) | i686 | OK | OK | ||
| churchill | Solaris 2.9 | sparc | OK | OK | ||
| lemming | Windows Server 2003 (32-bit) | x64 | [ OK ] | OK | OK | |
| liverpool | Windows Server 2003 R2 (32-bit) | x64 | OK | OK | OK | |
| derby | Mac OS X (10.4.9) | i686 | OK | OK |
| Package: lumi |
| Version: 1.2.0 |
| Command: D:\biocbld\bbs-2.0-bioc\R\bin\R.exe CMD build lumi |
| RetCode: 0 |
| Time: 87.3 seconds |
| Status: OK |
| PackageFile: lumi_1.2.0.tar.gz |
* checking for file 'lumi/DESCRIPTION' ... OK
* preparing 'lumi':
* checking DESCRIPTION meta-information ... OK
* installing the package to re-build vignettes
installing R.css in D:/biocbld/bbs-2.0-bioc/tmpdir/Rinst446072290
---------- Making package lumi ------------
adding build stamp to DESCRIPTION
installing R files
installing inst files
installing data files
installing man source files
installing indices
not zipping data
installing help
>>> Building/Updating help pages for package 'lumi'
Formats: text html latex example chm
LumiBatch-class text html latex example chm
MAplot-methods text html latex example chm
addNuId2lumi text html latex example chm
boxplot-methods text html latex example chm
detectOutlier text html latex example chm
detectionCall text html latex example chm
estimateLumiCV text html latex example chm
example.lumi text html latex example chm
hist-methods text html latex example chm
id2seq text html latex example chm
inverseVST text html latex example chm
is.nuID text html latex example chm
lumi.package text html latex example chm
lumiB text html latex example chm
lumiExpresso text html latex example chm
lumiN text html latex example chm
lumiQ text html latex example chm
lumiR text html latex example chm
lumiT text html latex example chm
monoSmu text html latex example chm
monoSpline text html latex example chm
nuID2probeID text html latex example chm
nuID2targetID text html latex example chm
pairs-methods text html latex example chm
plot-methods text html latex example chm
plotSampleRelation text html latex example chm
plotVST text html latex example chm
probeID2nuID text html latex example chm
rsn text html latex example chm
seq2id text html latex example chm
targetID2nuID text html latex example chm
vst text html latex example chm
Microsoft HTML Help Compiler 4.74.8702
Compiling d:\biocbld\bbs-2.0-bioc\meat\lumi\chm\lumi.chm
Compile time: 0 minutes, 0 seconds
33 Topics
173 Local links
0 Internet links
1 Graphic
Created d:\biocbld\bbs-2.0-bioc\meat\lumi\chm\lumi.chm, 49,171 bytes
Compression decreased file by 63,671 bytes.
preparing package lumi for lazy loading
Loading required package: Biobase
Loading required package: tools
Welcome to Bioconductor
Vignettes contain introductory material. To view, type
'openVignette()'. To cite Bioconductor, see
'citation("Biobase")' and for packages 'citation(pkgname)'.
Loading required package: affy
Loading required package: affyio
Loading required package: mgcv
Loading required package: annotate
Creating a new generic function for "summary" in "lumi"
Creating a new generic function for "pairs" in "lumi"
Creating a new generic function for "plot" in "lumi"
adding MD5 sums
* DONE (lumi)
* creating vignettes ... OK
* removing junk files
* checking for LF line-endings in source files
* checking for empty or unneeded directories
* building 'lumi_1.2.0.tar.gz'