Back to the "Multiple platform build/check report"
| Package 97/214 | Hostname | OS | Arch | BUILD | CHECK | BUILD BIN | 
| hypergraph1.8.0Seth FalconLast Changed Date: 2007-04-24 11:21:48 -0700 Last Changed Rev: 24214 | lamb1 | Linux (SUSE 10.1) | x86_64 | OK | [ OK ] | |
| wellington | Linux (SUSE 9.2) | i686 | OK | OK | ||
| churchill | Solaris 2.9 | sparc | OK | OK | ||
| lemming | Windows Server 2003 (32-bit) | x64 | OK | OK | OK | |
| liverpool | Windows Server 2003 R2 (32-bit) | x64 | OK | OK | OK | |
| derby | Mac OS X (10.4.9) | i686 | OK | OK | 
| Package: hypergraph | 
| Version: 1.8.0 | 
| Command: /home/biocbuild/bbs-2.0-bioc/R/bin/R CMD check hypergraph_1.8.0.tar.gz | 
| RetCode: 0 | 
| Time: 19.7 seconds | 
| Status: OK | 
| CheckDir: hypergraph.Rcheck | 
| Warnings: 0 | 
* checking for working latex ... OK * using log directory '/home/biocbuild/bbs-2.0-bioc/meat/hypergraph.Rcheck' * using R version 2.5.0 (2007-04-23) * checking for file 'hypergraph/DESCRIPTION' ... OK * this is package 'hypergraph' version '1.8.0' * checking package dependencies ... OK * checking if this is a source package ... OK * checking whether package 'hypergraph' can be installed ... OK * checking package directory ... OK * checking for portable file names ... OK * checking for sufficient/correct file permissions ... OK * checking DESCRIPTION meta-information ... OK * checking top-level files ... OK * checking index information ... OK * checking package subdirectories ... OK * checking R files for non-ASCII characters ... OK * checking R files for syntax errors ... OK * checking whether the package can be loaded ... OK * checking whether the package can be loaded with stated dependencies ... OK * checking whether the name space can be loaded with stated dependencies ... OK * checking for unstated dependencies in R code ... OK * checking S3 generic/method consistency ... OK * checking replacement functions ... OK * checking foreign function calls ... OK * checking R code for possible problems ... OK * checking Rd files ... OK * checking Rd cross-references ... OK * checking for missing documentation entries ... OK * checking for code/documentation mismatches ... OK * checking Rd \usage sections ... OK * creating hypergraph-Ex.R ... OK * checking examples ... OK * creating hypergraph-manual.tex ... OK * checking hypergraph-manual.tex ... OK
hypergraph.Rcheck/00install.out:
* Installing *source* package 'hypergraph' ...
** R
** inst
** save image
Loading required package: graph
** help
 >>> Building/Updating help pages for package 'hypergraph'
     Formats: text html latex example 
  DirectedHyperedge-class           text    html    latex   example
  DirectedHyperedge                 text    html    latex
  Hyperedge-class                   text    html    latex   example
  Hyperedge                         text    html    latex
  Hypergraph-class                  text    html    latex   example
  Hypergraph                        text    html    latex
  kCores                            text    html    latex   example
  l2hel                             text    html    latex   example
  vCover                            text    html    latex   example
** building package indices ...
* DONE (hypergraph)